BEGIN:VCALENDAR
VERSION:2.0
PRODID:-//Windmill Farm Market - ECPv6.15.20//NONSGML v1.0//EN
CALSCALE:GREGORIAN
METHOD:PUBLISH
X-WR-CALNAME:Windmill Farm Market
X-ORIGINAL-URL:https://www.windmillfarmmarket.com
X-WR-CALDESC:Events for Windmill Farm Market
REFRESH-INTERVAL;VALUE=DURATION:PT1H
X-Robots-Tag:noindex
X-PUBLISHED-TTL:PT1H
BEGIN:VTIMEZONE
TZID:America/Chicago
BEGIN:DAYLIGHT
TZOFFSETFROM:-0600
TZOFFSETTO:-0500
TZNAME:CDT
DTSTART:20230312T080000
END:DAYLIGHT
BEGIN:STANDARD
TZOFFSETFROM:-0500
TZOFFSETTO:-0600
TZNAME:CST
DTSTART:20231105T070000
END:STANDARD
BEGIN:DAYLIGHT
TZOFFSETFROM:-0600
TZOFFSETTO:-0500
TZNAME:CDT
DTSTART:20240310T080000
END:DAYLIGHT
BEGIN:STANDARD
TZOFFSETFROM:-0500
TZOFFSETTO:-0600
TZNAME:CST
DTSTART:20241103T070000
END:STANDARD
BEGIN:DAYLIGHT
TZOFFSETFROM:-0600
TZOFFSETTO:-0500
TZNAME:CDT
DTSTART:20250309T080000
END:DAYLIGHT
BEGIN:STANDARD
TZOFFSETFROM:-0500
TZOFFSETTO:-0600
TZNAME:CST
DTSTART:20251102T070000
END:STANDARD
BEGIN:DAYLIGHT
TZOFFSETFROM:-0600
TZOFFSETTO:-0500
TZNAME:CDT
DTSTART:20260308T080000
END:DAYLIGHT
BEGIN:STANDARD
TZOFFSETFROM:-0500
TZOFFSETTO:-0600
TZNAME:CST
DTSTART:20261101T070000
END:STANDARD
END:VTIMEZONE
BEGIN:VEVENT
DTSTART;TZID=America/Chicago:20250921T110000
DTEND;TZID=America/Chicago:20250921T110000
DTSTAMP:20260423T175815
CREATED:20241202T162327Z
LAST-MODIFIED:20241202T162327Z
UID:1974-1758452400-1758452400@www.windmillfarmmarket.com
SUMMARY:Public Hayrides
DESCRIPTION:Our public hayrides are on Friday from 11am – 6pm and on the weekends from 11am to 5pm – so come on by! Contact us directly for private hayrides on Wednesday and Thursday!
URL:https://www.windmillfarmmarket.com/event/public-hayrides-84/
LOCATION:Windmill Farm Market\, 1454 E. State Route 73 \, Springboro\, OH\, 45066\, United States
END:VEVENT
BEGIN:VEVENT
DTSTART;TZID=America/Chicago:20250921T100000
DTEND;TZID=America/Chicago:20250921T100000
DTSTAMP:20260423T175815
CREATED:20241202T162409Z
LAST-MODIFIED:20241202T162409Z
UID:1992-1758448800-1758448800@www.windmillfarmmarket.com
SUMMARY:Market
DESCRIPTION:Our market is open anytime during the Spooktacular festival from 10am to 6pm!
URL:https://www.windmillfarmmarket.com/event/market-201/
LOCATION:Windmill Farm Market\, 1454 E. State Route 73 \, Springboro\, OH\, 45066\, United States
END:VEVENT
BEGIN:VEVENT
DTSTART;TZID=America/Chicago:20250920T110000
DTEND;TZID=America/Chicago:20250920T110000
DTSTAMP:20260423T175815
CREATED:20241202T162327Z
LAST-MODIFIED:20241202T162327Z
UID:1973-1758366000-1758366000@www.windmillfarmmarket.com
SUMMARY:Public Hayrides
DESCRIPTION:Our public hayrides are on Friday from 11am – 6pm and on the weekends from 11am to 5pm – so come on by! Contact us directly for private hayrides on Wednesday and Thursday!
URL:https://www.windmillfarmmarket.com/event/public-hayrides-83/
LOCATION:Windmill Farm Market\, 1454 E. State Route 73 \, Springboro\, OH\, 45066\, United States
END:VEVENT
BEGIN:VEVENT
DTSTART;TZID=America/Chicago:20250920T100000
DTEND;TZID=America/Chicago:20250920T100000
DTSTAMP:20260423T175815
CREATED:20241202T162409Z
LAST-MODIFIED:20241202T162409Z
UID:1991-1758362400-1758362400@www.windmillfarmmarket.com
SUMMARY:Market
DESCRIPTION:Our market is open anytime during the Spooktacular festival from 10am to 6pm!
URL:https://www.windmillfarmmarket.com/event/market-200/
LOCATION:Windmill Farm Market\, 1454 E. State Route 73 \, Springboro\, OH\, 45066\, United States
END:VEVENT
BEGIN:VEVENT
DTSTART;TZID=America/Chicago:20241027T110000
DTEND;TZID=America/Chicago:20241027T110000
DTSTAMP:20260423T175815
CREATED:20231218T175244Z
LAST-MODIFIED:20231218T175244Z
UID:1877-1730026800-1730026800@www.windmillfarmmarket.com
SUMMARY:Public Hayrides
DESCRIPTION:Our public hayrides are on Friday from 11am – 6pm and on the weekends from 11am to 5pm – so come on by! Contact us directly for private hayrides on Wednesday and Thursday!
URL:https://www.windmillfarmmarket.com/event/public-hayrides-80/
LOCATION:Windmill Farm Market\, 1454 E. State Route 73 \, Springboro\, OH\, 45066\, United States
END:VEVENT
BEGIN:VEVENT
DTSTART;TZID=America/Chicago:20241027T100000
DTEND;TZID=America/Chicago:20241027T100000
DTSTAMP:20260423T175815
CREATED:20231218T175651Z
LAST-MODIFIED:20231218T175651Z
UID:1902-1730023200-1730023200@www.windmillfarmmarket.com
SUMMARY:Market
DESCRIPTION:Our market is open anytime during the Spooktacular festival from 10am to 6pm!
URL:https://www.windmillfarmmarket.com/event/market-197/
LOCATION:Windmill Farm Market\, 1454 E. State Route 73 \, Springboro\, OH\, 45066\, United States
END:VEVENT
BEGIN:VEVENT
DTSTART;TZID=America/Chicago:20241026T110000
DTEND;TZID=America/Chicago:20241026T110000
DTSTAMP:20260423T175815
CREATED:20231218T175244Z
LAST-MODIFIED:20231218T175244Z
UID:1876-1729940400-1729940400@www.windmillfarmmarket.com
SUMMARY:Public Hayrides
DESCRIPTION:Our public hayrides are on Friday from 11am – 6pm and on the weekends from 11am to 5pm – so come on by! Contact us directly for private hayrides on Wednesday and Thursday!
URL:https://www.windmillfarmmarket.com/event/public-hayrides-79/
LOCATION:Windmill Farm Market\, 1454 E. State Route 73 \, Springboro\, OH\, 45066\, United States
END:VEVENT
BEGIN:VEVENT
DTSTART;TZID=America/Chicago:20241026T100000
DTEND;TZID=America/Chicago:20241026T100000
DTSTAMP:20260423T175815
CREATED:20231218T175651Z
LAST-MODIFIED:20231218T175651Z
UID:1901-1729936800-1729936800@www.windmillfarmmarket.com
SUMMARY:Market
DESCRIPTION:Our market is open anytime during the Spooktacular festival from 10am to 6pm!
URL:https://www.windmillfarmmarket.com/event/market-196/
LOCATION:Windmill Farm Market\, 1454 E. State Route 73 \, Springboro\, OH\, 45066\, United States
END:VEVENT
BEGIN:VEVENT
DTSTART;TZID=America/Chicago:20241025T110000
DTEND;TZID=America/Chicago:20241025T110000
DTSTAMP:20260423T175815
CREATED:20231218T175244Z
LAST-MODIFIED:20231218T175244Z
UID:1875-1729854000-1729854000@www.windmillfarmmarket.com
SUMMARY:Public Hayrides
DESCRIPTION:Our public hayrides are on Friday from 11am – 6pm and on the weekends from 11am to 5pm – so come on by! Contact us directly for private hayrides on Wednesday and Thursday!
URL:https://www.windmillfarmmarket.com/event/public-hayrides-78/
LOCATION:Windmill Farm Market\, 1454 E. State Route 73 \, Springboro\, OH\, 45066\, United States
END:VEVENT
BEGIN:VEVENT
DTSTART;TZID=America/Chicago:20241025T100000
DTEND;TZID=America/Chicago:20241025T100000
DTSTAMP:20260423T175815
CREATED:20231218T175651Z
LAST-MODIFIED:20231218T175651Z
UID:1900-1729850400-1729850400@www.windmillfarmmarket.com
SUMMARY:Market
DESCRIPTION:Our market is open anytime during the Spooktacular festival from 10am to 6pm!
URL:https://www.windmillfarmmarket.com/event/market-195/
LOCATION:Windmill Farm Market\, 1454 E. State Route 73 \, Springboro\, OH\, 45066\, United States
END:VEVENT
BEGIN:VEVENT
DTSTART;TZID=America/Chicago:20241024T100000
DTEND;TZID=America/Chicago:20241024T100000
DTSTAMP:20260423T175815
CREATED:20231218T175650Z
LAST-MODIFIED:20231218T175650Z
UID:1899-1729764000-1729764000@www.windmillfarmmarket.com
SUMMARY:Market
DESCRIPTION:Our market is open anytime during the Spooktacular festival from 10am to 6pm!
URL:https://www.windmillfarmmarket.com/event/market-194/
LOCATION:Windmill Farm Market\, 1454 E. State Route 73 \, Springboro\, OH\, 45066\, United States
END:VEVENT
BEGIN:VEVENT
DTSTART;TZID=America/Chicago:20241024T090000
DTEND;TZID=America/Chicago:20241024T090000
DTSTAMP:20260423T175815
CREATED:20231218T175721Z
LAST-MODIFIED:20231218T175721Z
UID:1912-1729760400-1729760400@www.windmillfarmmarket.com
SUMMARY:Private Hayrides
DESCRIPTION:Contact us directly for private hayrides on Wednesday and Thursday – minimum 10 children. Otherwise\, checkout our public hayrides Friday through Sunday!
URL:https://www.windmillfarmmarket.com/event/private-hayrides-138/
LOCATION:Windmill Farm Market\, 1454 E. State Route 73 \, Springboro\, OH\, 45066\, United States
END:VEVENT
BEGIN:VEVENT
DTSTART;TZID=America/Chicago:20241023T100000
DTEND;TZID=America/Chicago:20241023T100000
DTSTAMP:20260423T175815
CREATED:20231218T175650Z
LAST-MODIFIED:20231218T175650Z
UID:1898-1729677600-1729677600@www.windmillfarmmarket.com
SUMMARY:Market
DESCRIPTION:Our market is open anytime during the Spooktacular festival from 10am to 6pm!
URL:https://www.windmillfarmmarket.com/event/market-193/
LOCATION:Windmill Farm Market\, 1454 E. State Route 73 \, Springboro\, OH\, 45066\, United States
END:VEVENT
BEGIN:VEVENT
DTSTART;TZID=America/Chicago:20241023T090000
DTEND;TZID=America/Chicago:20241023T090000
DTSTAMP:20260423T175815
CREATED:20231218T175721Z
LAST-MODIFIED:20231218T175721Z
UID:1911-1729674000-1729674000@www.windmillfarmmarket.com
SUMMARY:Private Hayrides
DESCRIPTION:Contact us directly for private hayrides on Wednesday and Thursday – minimum 10 children. Otherwise\, checkout our public hayrides Friday through Sunday!
URL:https://www.windmillfarmmarket.com/event/private-hayrides-137/
LOCATION:Windmill Farm Market\, 1454 E. State Route 73 \, Springboro\, OH\, 45066\, United States
END:VEVENT
BEGIN:VEVENT
DTSTART;TZID=America/Chicago:20241020T110000
DTEND;TZID=America/Chicago:20241020T110000
DTSTAMP:20260423T175815
CREATED:20231218T175244Z
LAST-MODIFIED:20231218T175244Z
UID:1874-1729422000-1729422000@www.windmillfarmmarket.com
SUMMARY:Public Hayrides
DESCRIPTION:Our public hayrides are on Friday from 11am – 6pm and on the weekends from 11am to 5pm – so come on by! Contact us directly for private hayrides on Wednesday and Thursday!
URL:https://www.windmillfarmmarket.com/event/public-hayrides-77/
LOCATION:Windmill Farm Market\, 1454 E. State Route 73 \, Springboro\, OH\, 45066\, United States
END:VEVENT
BEGIN:VEVENT
DTSTART;TZID=America/Chicago:20241020T100000
DTEND;TZID=America/Chicago:20241020T100000
DTSTAMP:20260423T175815
CREATED:20231218T175636Z
LAST-MODIFIED:20231218T175636Z
UID:1897-1729418400-1729418400@www.windmillfarmmarket.com
SUMMARY:Market
DESCRIPTION:Our market is open anytime during the Spooktacular festival from 10am to 6pm!
URL:https://www.windmillfarmmarket.com/event/market-192/
LOCATION:Windmill Farm Market\, 1454 E. State Route 73 \, Springboro\, OH\, 45066\, United States
END:VEVENT
BEGIN:VEVENT
DTSTART;TZID=America/Chicago:20241019T110000
DTEND;TZID=America/Chicago:20241019T110000
DTSTAMP:20260423T175815
CREATED:20231218T175244Z
LAST-MODIFIED:20231218T175244Z
UID:1873-1729335600-1729335600@www.windmillfarmmarket.com
SUMMARY:Public Hayrides
DESCRIPTION:Our public hayrides are on Friday from 11am – 6pm and on the weekends from 11am to 5pm – so come on by! Contact us directly for private hayrides on Wednesday and Thursday!
URL:https://www.windmillfarmmarket.com/event/public-hayrides-76/
LOCATION:Windmill Farm Market\, 1454 E. State Route 73 \, Springboro\, OH\, 45066\, United States
END:VEVENT
BEGIN:VEVENT
DTSTART;TZID=America/Chicago:20241019T100000
DTEND;TZID=America/Chicago:20241019T100000
DTSTAMP:20260423T175815
CREATED:20231218T175635Z
LAST-MODIFIED:20231218T175635Z
UID:1896-1729332000-1729332000@www.windmillfarmmarket.com
SUMMARY:Market
DESCRIPTION:Our market is open anytime during the Spooktacular festival from 10am to 6pm!
URL:https://www.windmillfarmmarket.com/event/market-191/
LOCATION:Windmill Farm Market\, 1454 E. State Route 73 \, Springboro\, OH\, 45066\, United States
END:VEVENT
BEGIN:VEVENT
DTSTART;TZID=America/Chicago:20241018T110000
DTEND;TZID=America/Chicago:20241018T110000
DTSTAMP:20260423T175815
CREATED:20231218T175229Z
LAST-MODIFIED:20231218T175229Z
UID:1872-1729249200-1729249200@www.windmillfarmmarket.com
SUMMARY:Public Hayrides
DESCRIPTION:Our public hayrides are on Friday from 11am – 6pm and on the weekends from 11am to 5pm – so come on by! Contact us directly for private hayrides on Wednesday and Thursday!
URL:https://www.windmillfarmmarket.com/event/public-hayrides-75/
LOCATION:Windmill Farm Market\, 1454 E. State Route 73 \, Springboro\, OH\, 45066\, United States
END:VEVENT
BEGIN:VEVENT
DTSTART;TZID=America/Chicago:20241018T100000
DTEND;TZID=America/Chicago:20241018T100000
DTSTAMP:20260423T175815
CREATED:20231218T175635Z
LAST-MODIFIED:20231218T175635Z
UID:1895-1729245600-1729245600@www.windmillfarmmarket.com
SUMMARY:Market
DESCRIPTION:Our market is open anytime during the Spooktacular festival from 10am to 6pm!
URL:https://www.windmillfarmmarket.com/event/market-190/
LOCATION:Windmill Farm Market\, 1454 E. State Route 73 \, Springboro\, OH\, 45066\, United States
END:VEVENT
BEGIN:VEVENT
DTSTART;TZID=America/Chicago:20241017T100000
DTEND;TZID=America/Chicago:20241017T100000
DTSTAMP:20260423T175815
CREATED:20231218T175635Z
LAST-MODIFIED:20231218T175635Z
UID:1894-1729159200-1729159200@www.windmillfarmmarket.com
SUMMARY:Market
DESCRIPTION:Our market is open anytime during the Spooktacular festival from 10am to 6pm!
URL:https://www.windmillfarmmarket.com/event/market-189/
LOCATION:Windmill Farm Market\, 1454 E. State Route 73 \, Springboro\, OH\, 45066\, United States
END:VEVENT
BEGIN:VEVENT
DTSTART;TZID=America/Chicago:20241017T090000
DTEND;TZID=America/Chicago:20241017T090000
DTSTAMP:20260423T175815
CREATED:20231218T175721Z
LAST-MODIFIED:20231218T175721Z
UID:1910-1729155600-1729155600@www.windmillfarmmarket.com
SUMMARY:Private Hayrides
DESCRIPTION:Contact us directly for private hayrides on Wednesday and Thursday – minimum 10 children. Otherwise\, checkout our public hayrides Friday through Sunday!
URL:https://www.windmillfarmmarket.com/event/private-hayrides-136/
LOCATION:Windmill Farm Market\, 1454 E. State Route 73 \, Springboro\, OH\, 45066\, United States
END:VEVENT
BEGIN:VEVENT
DTSTART;TZID=America/Chicago:20241016T100000
DTEND;TZID=America/Chicago:20241016T100000
DTSTAMP:20260423T175815
CREATED:20231218T175635Z
LAST-MODIFIED:20231218T175635Z
UID:1893-1729072800-1729072800@www.windmillfarmmarket.com
SUMMARY:Market
DESCRIPTION:Our market is open anytime during the Spooktacular festival from 10am to 6pm!
URL:https://www.windmillfarmmarket.com/event/market-188/
LOCATION:Windmill Farm Market\, 1454 E. State Route 73 \, Springboro\, OH\, 45066\, United States
END:VEVENT
BEGIN:VEVENT
DTSTART;TZID=America/Chicago:20241016T090000
DTEND;TZID=America/Chicago:20241016T090000
DTSTAMP:20260423T175815
CREATED:20231218T175721Z
LAST-MODIFIED:20231218T175721Z
UID:1909-1729069200-1729069200@www.windmillfarmmarket.com
SUMMARY:Private Hayrides
DESCRIPTION:Contact us directly for private hayrides on Wednesday and Thursday – minimum 10 children. Otherwise\, checkout our public hayrides Friday through Sunday!
URL:https://www.windmillfarmmarket.com/event/private-hayrides-135/
LOCATION:Windmill Farm Market\, 1454 E. State Route 73 \, Springboro\, OH\, 45066\, United States
END:VEVENT
BEGIN:VEVENT
DTSTART;TZID=America/Chicago:20241013T110000
DTEND;TZID=America/Chicago:20241013T110000
DTSTAMP:20260423T175815
CREATED:20231218T175228Z
LAST-MODIFIED:20231218T175228Z
UID:1871-1728817200-1728817200@www.windmillfarmmarket.com
SUMMARY:Public Hayrides
DESCRIPTION:Our public hayrides are on Friday from 11am – 6pm and on the weekends from 11am to 5pm – so come on by! Contact us directly for private hayrides on Wednesday and Thursday!
URL:https://www.windmillfarmmarket.com/event/public-hayrides-74/
LOCATION:Windmill Farm Market\, 1454 E. State Route 73 \, Springboro\, OH\, 45066\, United States
END:VEVENT
BEGIN:VEVENT
DTSTART;TZID=America/Chicago:20241013T100000
DTEND;TZID=America/Chicago:20241013T100000
DTSTAMP:20260423T175815
CREATED:20231218T175555Z
LAST-MODIFIED:20231218T175555Z
UID:1892-1728813600-1728813600@www.windmillfarmmarket.com
SUMMARY:Market
DESCRIPTION:Our market is open anytime during the Spooktacular festival from 10am to 6pm!
URL:https://www.windmillfarmmarket.com/event/market-187/
LOCATION:Windmill Farm Market\, 1454 E. State Route 73 \, Springboro\, OH\, 45066\, United States
END:VEVENT
BEGIN:VEVENT
DTSTART;TZID=America/Chicago:20241012T110000
DTEND;TZID=America/Chicago:20241012T110000
DTSTAMP:20260423T175815
CREATED:20231218T175228Z
LAST-MODIFIED:20231218T175228Z
UID:1870-1728730800-1728730800@www.windmillfarmmarket.com
SUMMARY:Public Hayrides
DESCRIPTION:Our public hayrides are on Friday from 11am – 6pm and on the weekends from 11am to 5pm – so come on by! Contact us directly for private hayrides on Wednesday and Thursday!
URL:https://www.windmillfarmmarket.com/event/public-hayrides-73/
LOCATION:Windmill Farm Market\, 1454 E. State Route 73 \, Springboro\, OH\, 45066\, United States
END:VEVENT
BEGIN:VEVENT
DTSTART;TZID=America/Chicago:20241012T100000
DTEND;TZID=America/Chicago:20241012T100000
DTSTAMP:20260423T175815
CREATED:20231218T175555Z
LAST-MODIFIED:20231218T175555Z
UID:1891-1728727200-1728727200@www.windmillfarmmarket.com
SUMMARY:Market
DESCRIPTION:Our market is open anytime during the Spooktacular festival from 10am to 6pm!
URL:https://www.windmillfarmmarket.com/event/market-186/
LOCATION:Windmill Farm Market\, 1454 E. State Route 73 \, Springboro\, OH\, 45066\, United States
END:VEVENT
BEGIN:VEVENT
DTSTART;TZID=America/Chicago:20241011T110000
DTEND;TZID=America/Chicago:20241011T110000
DTSTAMP:20260423T175815
CREATED:20231218T175228Z
LAST-MODIFIED:20231218T175228Z
UID:1869-1728644400-1728644400@www.windmillfarmmarket.com
SUMMARY:Public Hayrides
DESCRIPTION:Our public hayrides are on Friday from 11am – 6pm and on the weekends from 11am to 5pm – so come on by! Contact us directly for private hayrides on Wednesday and Thursday!
URL:https://www.windmillfarmmarket.com/event/public-hayrides-72/
LOCATION:Windmill Farm Market\, 1454 E. State Route 73 \, Springboro\, OH\, 45066\, United States
END:VEVENT
BEGIN:VEVENT
DTSTART;TZID=America/Chicago:20241011T100000
DTEND;TZID=America/Chicago:20241011T100000
DTSTAMP:20260423T175815
CREATED:20231218T175555Z
LAST-MODIFIED:20231218T175555Z
UID:1890-1728640800-1728640800@www.windmillfarmmarket.com
SUMMARY:Market
DESCRIPTION:Our market is open anytime during the Spooktacular festival from 10am to 6pm!
URL:https://www.windmillfarmmarket.com/event/market-185/
LOCATION:Windmill Farm Market\, 1454 E. State Route 73 \, Springboro\, OH\, 45066\, United States
END:VEVENT
END:VCALENDAR