BEGIN:VCALENDAR
VERSION:2.0
PRODID:-//Windmill Farm Market - ECPv6.15.20//NONSGML v1.0//EN
CALSCALE:GREGORIAN
METHOD:PUBLISH
X-WR-CALNAME:Windmill Farm Market
X-ORIGINAL-URL:https://www.windmillfarmmarket.com
X-WR-CALDESC:Events for Windmill Farm Market
REFRESH-INTERVAL;VALUE=DURATION:PT1H
X-Robots-Tag:noindex
X-PUBLISHED-TTL:PT1H
BEGIN:VTIMEZONE
TZID:America/Chicago
BEGIN:DAYLIGHT
TZOFFSETFROM:-0600
TZOFFSETTO:-0500
TZNAME:CDT
DTSTART:20180311T080000
END:DAYLIGHT
BEGIN:STANDARD
TZOFFSETFROM:-0500
TZOFFSETTO:-0600
TZNAME:CST
DTSTART:20181104T070000
END:STANDARD
BEGIN:DAYLIGHT
TZOFFSETFROM:-0600
TZOFFSETTO:-0500
TZNAME:CDT
DTSTART:20190310T080000
END:DAYLIGHT
BEGIN:STANDARD
TZOFFSETFROM:-0500
TZOFFSETTO:-0600
TZNAME:CST
DTSTART:20191103T070000
END:STANDARD
BEGIN:DAYLIGHT
TZOFFSETFROM:-0600
TZOFFSETTO:-0500
TZNAME:CDT
DTSTART:20200308T080000
END:DAYLIGHT
BEGIN:STANDARD
TZOFFSETFROM:-0500
TZOFFSETTO:-0600
TZNAME:CST
DTSTART:20201101T070000
END:STANDARD
BEGIN:DAYLIGHT
TZOFFSETFROM:-0600
TZOFFSETTO:-0500
TZNAME:CDT
DTSTART:20210314T080000
END:DAYLIGHT
BEGIN:STANDARD
TZOFFSETFROM:-0500
TZOFFSETTO:-0600
TZNAME:CST
DTSTART:20211107T070000
END:STANDARD
END:VTIMEZONE
BEGIN:VEVENT
DTSTART;TZID=America/Chicago:20200927T100000
DTEND;TZID=America/Chicago:20200927T180000
DTSTAMP:20260425T111006
CREATED:20200413T190738Z
LAST-MODIFIED:20200821T160958Z
UID:970-1601200800-1601229600@www.windmillfarmmarket.com
SUMMARY:Market
DESCRIPTION:Our market is open anytime during the Spooktacular festival from 10am to 6pm!
URL:https://www.windmillfarmmarket.com/event/market-39/
LOCATION:Windmill Farm Market\, 1454 E. State Route 73 \, Springboro\, OH\, 45066\, United States
CATEGORIES:Operating Hours
END:VEVENT
BEGIN:VEVENT
DTSTART;TZID=America/Chicago:20200926T110000
DTEND;TZID=America/Chicago:20200926T170000
DTSTAMP:20260425T111006
CREATED:20200413T190733Z
LAST-MODIFIED:20200821T160952Z
UID:958-1601118000-1601139600@www.windmillfarmmarket.com
SUMMARY:Public Hayrides
DESCRIPTION:Notice for 2020 Hayride SeasonIt is with great sadness that we have made the difficult decision to not open Windmill Farm Market for the 2020 season. \nThe ongoing difficulties caused by covid 19 and our concern for the health and safety of our customers and employees have left us no choice but this one. \nWe have begun making great plans for our 2021 season and look forward to seeing all of you next year. \nIn the meantime we are wishing all of you health and happiness.
URL:https://www.windmillfarmmarket.com/event/public-hayrides-13/
LOCATION:Windmill Farm Market\, 1454 E. State Route 73 \, Springboro\, OH\, 45066\, United States
CATEGORIES:Operating Hours
END:VEVENT
BEGIN:VEVENT
DTSTART;TZID=America/Chicago:20200926T100000
DTEND;TZID=America/Chicago:20200926T180000
DTSTAMP:20260425T111006
CREATED:20200413T190738Z
LAST-MODIFIED:20200821T160957Z
UID:969-1601114400-1601143200@www.windmillfarmmarket.com
SUMMARY:Market
DESCRIPTION:Our market is open anytime during the Spooktacular festival from 10am to 6pm!
URL:https://www.windmillfarmmarket.com/event/market-38/
LOCATION:Windmill Farm Market\, 1454 E. State Route 73 \, Springboro\, OH\, 45066\, United States
CATEGORIES:Operating Hours
END:VEVENT
BEGIN:VEVENT
DTSTART;TZID=America/Chicago:20191027T110000
DTEND;TZID=America/Chicago:20191027T170000
DTSTAMP:20260425T111006
CREATED:20190520T132151Z
LAST-MODIFIED:20190520T132151Z
UID:833-1572174000-1572195600@www.windmillfarmmarket.com
SUMMARY:Public Hayrides
DESCRIPTION:Our public hayrides are on the weekends from 11am to 5pm – so come on by!ÿContact usÿdirectly for private hayrides during the week.
URL:https://www.windmillfarmmarket.com/event/public-hayrides-12/
LOCATION:Windmill Farm Market\, 1454 E. State Route 73 \, Springboro\, OH\, 45066\, United States
CATEGORIES:Operating Hours
END:VEVENT
BEGIN:VEVENT
DTSTART;TZID=America/Chicago:20191027T100000
DTEND;TZID=America/Chicago:20191027T180000
DTSTAMP:20260425T111006
CREATED:20190520T132203Z
LAST-MODIFIED:20190520T132203Z
UID:870-1572170400-1572199200@www.windmillfarmmarket.com
SUMMARY:Market
DESCRIPTION:Our market is open anytime during the Spooktacular festival from 10am to 6pm!
URL:https://www.windmillfarmmarket.com/event/market-37/
LOCATION:Windmill Farm Market\, 1454 E. State Route 73 \, Springboro\, OH\, 45066\, United States
CATEGORIES:Operating Hours
END:VEVENT
BEGIN:VEVENT
DTSTART;TZID=America/Chicago:20191026T110000
DTEND;TZID=America/Chicago:20191026T170000
DTSTAMP:20260425T111006
CREATED:20190520T132151Z
LAST-MODIFIED:20190520T132151Z
UID:832-1572087600-1572109200@www.windmillfarmmarket.com
SUMMARY:Public Hayrides
DESCRIPTION:Our public hayrides are on the weekends from 11am to 5pm – so come on by!ÿContact usÿdirectly for private hayrides during the week.
URL:https://www.windmillfarmmarket.com/event/public-hayrides-11/
LOCATION:Windmill Farm Market\, 1454 E. State Route 73 \, Springboro\, OH\, 45066\, United States
CATEGORIES:Operating Hours
END:VEVENT
BEGIN:VEVENT
DTSTART;TZID=America/Chicago:20191026T100000
DTEND;TZID=America/Chicago:20191026T180000
DTSTAMP:20260425T111006
CREATED:20190520T132203Z
LAST-MODIFIED:20190520T132203Z
UID:869-1572084000-1572112800@www.windmillfarmmarket.com
SUMMARY:Market
DESCRIPTION:Our market is open anytime during the Spooktacular festival from 10am to 6pm!
URL:https://www.windmillfarmmarket.com/event/market-36/
LOCATION:Windmill Farm Market\, 1454 E. State Route 73 \, Springboro\, OH\, 45066\, United States
CATEGORIES:Operating Hours
END:VEVENT
BEGIN:VEVENT
DTSTART;TZID=America/Chicago:20191025T100000
DTEND;TZID=America/Chicago:20191025T180000
DTSTAMP:20260425T111006
CREATED:20190520T132203Z
LAST-MODIFIED:20190520T132203Z
UID:868-1571997600-1572026400@www.windmillfarmmarket.com
SUMMARY:Market
DESCRIPTION:Our market is open anytime during the Spooktacular festival from 10am to 6pm!
URL:https://www.windmillfarmmarket.com/event/market-35/
LOCATION:Windmill Farm Market\, 1454 E. State Route 73 \, Springboro\, OH\, 45066\, United States
CATEGORIES:Operating Hours
END:VEVENT
BEGIN:VEVENT
DTSTART;TZID=America/Chicago:20191024T110000
DTEND;TZID=America/Chicago:20191024T170000
DTSTAMP:20260425T111006
CREATED:20190520T132211Z
LAST-MODIFIED:20190520T132211Z
UID:895-1571914800-1571936400@www.windmillfarmmarket.com
SUMMARY:Private Hayrides
DESCRIPTION:Contact usÿdirectly for private hayrides during the week – minimum 10 children. Otherwise\, our public hayrides are on the weekends from 11am to 5pm – so come on by!ÿ
URL:https://www.windmillfarmmarket.com/event/private-hayrides-25/
LOCATION:Windmill Farm Market\, 1454 E. State Route 73 \, Springboro\, OH\, 45066\, United States
CATEGORIES:Operating Hours
END:VEVENT
BEGIN:VEVENT
DTSTART;TZID=America/Chicago:20191024T100000
DTEND;TZID=America/Chicago:20191024T180000
DTSTAMP:20260425T111006
CREATED:20190520T132203Z
LAST-MODIFIED:20190520T132203Z
UID:867-1571911200-1571940000@www.windmillfarmmarket.com
SUMMARY:Market
DESCRIPTION:Our market is open anytime during the Spooktacular festival from 10am to 6pm!
URL:https://www.windmillfarmmarket.com/event/market-34/
LOCATION:Windmill Farm Market\, 1454 E. State Route 73 \, Springboro\, OH\, 45066\, United States
CATEGORIES:Operating Hours
END:VEVENT
BEGIN:VEVENT
DTSTART;TZID=America/Chicago:20191023T110000
DTEND;TZID=America/Chicago:20191023T170000
DTSTAMP:20260425T111006
CREATED:20190520T132211Z
LAST-MODIFIED:20190520T132211Z
UID:894-1571828400-1571850000@www.windmillfarmmarket.com
SUMMARY:Private Hayrides
DESCRIPTION:Contact usÿdirectly for private hayrides during the week – minimum 10 children. Otherwise\, our public hayrides are on the weekends from 11am to 5pm – so come on by!ÿ
URL:https://www.windmillfarmmarket.com/event/private-hayrides-24/
LOCATION:Windmill Farm Market\, 1454 E. State Route 73 \, Springboro\, OH\, 45066\, United States
CATEGORIES:Operating Hours
END:VEVENT
BEGIN:VEVENT
DTSTART;TZID=America/Chicago:20191023T100000
DTEND;TZID=America/Chicago:20191023T180000
DTSTAMP:20260425T111006
CREATED:20190520T132201Z
LAST-MODIFIED:20190520T132201Z
UID:866-1571824800-1571853600@www.windmillfarmmarket.com
SUMMARY:Market
DESCRIPTION:Our market is open anytime during the Spooktacular festival from 10am to 6pm!
URL:https://www.windmillfarmmarket.com/event/market-33/
LOCATION:Windmill Farm Market\, 1454 E. State Route 73 \, Springboro\, OH\, 45066\, United States
CATEGORIES:Operating Hours
END:VEVENT
BEGIN:VEVENT
DTSTART;TZID=America/Chicago:20191022T110000
DTEND;TZID=America/Chicago:20191022T170000
DTSTAMP:20260425T111006
CREATED:20190520T132211Z
LAST-MODIFIED:20190520T132211Z
UID:893-1571742000-1571763600@www.windmillfarmmarket.com
SUMMARY:Private Hayrides
DESCRIPTION:Contact usÿdirectly for private hayrides during the week – minimum 10 children. Otherwise\, our public hayrides are on the weekends from 11am to 5pm – so come on by!ÿ
URL:https://www.windmillfarmmarket.com/event/private-hayrides-23/
LOCATION:Windmill Farm Market\, 1454 E. State Route 73 \, Springboro\, OH\, 45066\, United States
CATEGORIES:Operating Hours
END:VEVENT
BEGIN:VEVENT
DTSTART;TZID=America/Chicago:20191022T100000
DTEND;TZID=America/Chicago:20191022T180000
DTSTAMP:20260425T111006
CREATED:20190520T132201Z
LAST-MODIFIED:20190520T132201Z
UID:865-1571738400-1571767200@www.windmillfarmmarket.com
SUMMARY:Market
DESCRIPTION:Our market is open anytime during the Spooktacular festival from 10am to 6pm!
URL:https://www.windmillfarmmarket.com/event/market-32/
LOCATION:Windmill Farm Market\, 1454 E. State Route 73 \, Springboro\, OH\, 45066\, United States
CATEGORIES:Operating Hours
END:VEVENT
BEGIN:VEVENT
DTSTART;TZID=America/Chicago:20191021T110000
DTEND;TZID=America/Chicago:20191021T170000
DTSTAMP:20260425T111006
CREATED:20190520T132211Z
LAST-MODIFIED:20190520T132211Z
UID:892-1571655600-1571677200@www.windmillfarmmarket.com
SUMMARY:Private Hayrides
DESCRIPTION:Contact usÿdirectly for private hayrides during the week – minimum 10 children. Otherwise\, our public hayrides are on the weekends from 11am to 5pm – so come on by!ÿ
URL:https://www.windmillfarmmarket.com/event/private-hayrides-22/
LOCATION:Windmill Farm Market\, 1454 E. State Route 73 \, Springboro\, OH\, 45066\, United States
CATEGORIES:Operating Hours
END:VEVENT
BEGIN:VEVENT
DTSTART;TZID=America/Chicago:20191021T100000
DTEND;TZID=America/Chicago:20191021T180000
DTSTAMP:20260425T111006
CREATED:20190520T132201Z
LAST-MODIFIED:20190520T132201Z
UID:864-1571652000-1571680800@www.windmillfarmmarket.com
SUMMARY:Market
DESCRIPTION:Our market is open anytime during the Spooktacular festival from 10am to 6pm!
URL:https://www.windmillfarmmarket.com/event/market-31/
LOCATION:Windmill Farm Market\, 1454 E. State Route 73 \, Springboro\, OH\, 45066\, United States
CATEGORIES:Operating Hours
END:VEVENT
BEGIN:VEVENT
DTSTART;TZID=America/Chicago:20191020T110000
DTEND;TZID=America/Chicago:20191020T170000
DTSTAMP:20260425T111006
CREATED:20190520T132209Z
LAST-MODIFIED:20190520T132209Z
UID:891-1571569200-1571590800@www.windmillfarmmarket.com
SUMMARY:Private Hayrides
DESCRIPTION:Contact usÿdirectly for private hayrides during the week – minimum 10 children. Otherwise\, our public hayrides are on the weekends from 11am to 5pm – so come on by!ÿ
URL:https://www.windmillfarmmarket.com/event/private-hayrides-21/
LOCATION:Windmill Farm Market\, 1454 E. State Route 73 \, Springboro\, OH\, 45066\, United States
CATEGORIES:Operating Hours
END:VEVENT
BEGIN:VEVENT
DTSTART;TZID=America/Chicago:20191020T110000
DTEND;TZID=America/Chicago:20191020T170000
DTSTAMP:20260425T111006
CREATED:20190520T132150Z
LAST-MODIFIED:20190520T132150Z
UID:831-1571569200-1571590800@www.windmillfarmmarket.com
SUMMARY:Public Hayrides
DESCRIPTION:Our public hayrides are on the weekends from 11am to 5pm – so come on by!ÿContact usÿdirectly for private hayrides during the week.
URL:https://www.windmillfarmmarket.com/event/public-hayrides-10/
LOCATION:Windmill Farm Market\, 1454 E. State Route 73 \, Springboro\, OH\, 45066\, United States
CATEGORIES:Operating Hours
END:VEVENT
BEGIN:VEVENT
DTSTART;TZID=America/Chicago:20191020T100000
DTEND;TZID=America/Chicago:20191020T180000
DTSTAMP:20260425T111006
CREATED:20190520T132201Z
LAST-MODIFIED:20190520T132201Z
UID:863-1571565600-1571594400@www.windmillfarmmarket.com
SUMMARY:Market
DESCRIPTION:Our market is open anytime during the Spooktacular festival from 10am to 6pm!
URL:https://www.windmillfarmmarket.com/event/market-30/
LOCATION:Windmill Farm Market\, 1454 E. State Route 73 \, Springboro\, OH\, 45066\, United States
CATEGORIES:Operating Hours
END:VEVENT
BEGIN:VEVENT
DTSTART;TZID=America/Chicago:20191019T110000
DTEND;TZID=America/Chicago:20191019T170000
DTSTAMP:20260425T111006
CREATED:20190520T132150Z
LAST-MODIFIED:20190520T132150Z
UID:830-1571482800-1571504400@www.windmillfarmmarket.com
SUMMARY:Public Hayrides
DESCRIPTION:Our public hayrides are on the weekends from 11am to 5pm – so come on by!ÿContact usÿdirectly for private hayrides during the week.
URL:https://www.windmillfarmmarket.com/event/public-hayrides-9/
LOCATION:Windmill Farm Market\, 1454 E. State Route 73 \, Springboro\, OH\, 45066\, United States
CATEGORIES:Operating Hours
END:VEVENT
BEGIN:VEVENT
DTSTART;TZID=America/Chicago:20191019T100000
DTEND;TZID=America/Chicago:20191019T180000
DTSTAMP:20260425T111006
CREATED:20190520T132201Z
LAST-MODIFIED:20190520T132201Z
UID:862-1571479200-1571508000@www.windmillfarmmarket.com
SUMMARY:Market
DESCRIPTION:Our market is open anytime during the Spooktacular festival from 10am to 6pm!
URL:https://www.windmillfarmmarket.com/event/market-29/
LOCATION:Windmill Farm Market\, 1454 E. State Route 73 \, Springboro\, OH\, 45066\, United States
CATEGORIES:Operating Hours
END:VEVENT
BEGIN:VEVENT
DTSTART;TZID=America/Chicago:20191018T100000
DTEND;TZID=America/Chicago:20191018T180000
DTSTAMP:20260425T111006
CREATED:20190520T132200Z
LAST-MODIFIED:20190520T132200Z
UID:861-1571392800-1571421600@www.windmillfarmmarket.com
SUMMARY:Market
DESCRIPTION:Our market is open anytime during the Spooktacular festival from 10am to 6pm!
URL:https://www.windmillfarmmarket.com/event/market-28/
LOCATION:Windmill Farm Market\, 1454 E. State Route 73 \, Springboro\, OH\, 45066\, United States
CATEGORIES:Operating Hours
END:VEVENT
BEGIN:VEVENT
DTSTART;TZID=America/Chicago:20191017T110000
DTEND;TZID=America/Chicago:20191017T170000
DTSTAMP:20260425T111006
CREATED:20190520T132209Z
LAST-MODIFIED:20190520T132209Z
UID:890-1571310000-1571331600@www.windmillfarmmarket.com
SUMMARY:Private Hayrides
DESCRIPTION:Contact usÿdirectly for private hayrides during the week – minimum 10 children. Otherwise\, our public hayrides are on the weekends from 11am to 5pm – so come on by!ÿ
URL:https://www.windmillfarmmarket.com/event/private-hayrides-20/
LOCATION:Windmill Farm Market\, 1454 E. State Route 73 \, Springboro\, OH\, 45066\, United States
CATEGORIES:Operating Hours
END:VEVENT
BEGIN:VEVENT
DTSTART;TZID=America/Chicago:20191017T100000
DTEND;TZID=America/Chicago:20191017T180000
DTSTAMP:20260425T111006
CREATED:20190520T132159Z
LAST-MODIFIED:20190520T132159Z
UID:860-1571306400-1571335200@www.windmillfarmmarket.com
SUMMARY:Market
DESCRIPTION:Our market is open anytime during the Spooktacular festival from 10am to 6pm!
URL:https://www.windmillfarmmarket.com/event/market-27/
LOCATION:Windmill Farm Market\, 1454 E. State Route 73 \, Springboro\, OH\, 45066\, United States
CATEGORIES:Operating Hours
END:VEVENT
BEGIN:VEVENT
DTSTART;TZID=America/Chicago:20191016T110000
DTEND;TZID=America/Chicago:20191016T170000
DTSTAMP:20260425T111006
CREATED:20190520T132209Z
LAST-MODIFIED:20190520T132209Z
UID:889-1571223600-1571245200@www.windmillfarmmarket.com
SUMMARY:Private Hayrides
DESCRIPTION:Contact usÿdirectly for private hayrides during the week – minimum 10 children. Otherwise\, our public hayrides are on the weekends from 11am to 5pm – so come on by!ÿ
URL:https://www.windmillfarmmarket.com/event/private-hayrides-19/
LOCATION:Windmill Farm Market\, 1454 E. State Route 73 \, Springboro\, OH\, 45066\, United States
CATEGORIES:Operating Hours
END:VEVENT
BEGIN:VEVENT
DTSTART;TZID=America/Chicago:20191016T100000
DTEND;TZID=America/Chicago:20191016T180000
DTSTAMP:20260425T111006
CREATED:20190520T132159Z
LAST-MODIFIED:20190520T132159Z
UID:859-1571220000-1571248800@www.windmillfarmmarket.com
SUMMARY:Market
DESCRIPTION:Our market is open anytime during the Spooktacular festival from 10am to 6pm!
URL:https://www.windmillfarmmarket.com/event/market-26/
LOCATION:Windmill Farm Market\, 1454 E. State Route 73 \, Springboro\, OH\, 45066\, United States
CATEGORIES:Operating Hours
END:VEVENT
BEGIN:VEVENT
DTSTART;TZID=America/Chicago:20191015T110000
DTEND;TZID=America/Chicago:20191015T170000
DTSTAMP:20260425T111006
CREATED:20190520T132209Z
LAST-MODIFIED:20190520T132209Z
UID:888-1571137200-1571158800@www.windmillfarmmarket.com
SUMMARY:Private Hayrides
DESCRIPTION:Contact usÿdirectly for private hayrides during the week – minimum 10 children. Otherwise\, our public hayrides are on the weekends from 11am to 5pm – so come on by!ÿ
URL:https://www.windmillfarmmarket.com/event/private-hayrides-18/
LOCATION:Windmill Farm Market\, 1454 E. State Route 73 \, Springboro\, OH\, 45066\, United States
CATEGORIES:Operating Hours
END:VEVENT
BEGIN:VEVENT
DTSTART;TZID=America/Chicago:20191015T100000
DTEND;TZID=America/Chicago:20191015T180000
DTSTAMP:20260425T111006
CREATED:20190520T132159Z
LAST-MODIFIED:20190520T132159Z
UID:858-1571133600-1571162400@www.windmillfarmmarket.com
SUMMARY:Market
DESCRIPTION:Our market is open anytime during the Spooktacular festival from 10am to 6pm!
URL:https://www.windmillfarmmarket.com/event/market-25/
LOCATION:Windmill Farm Market\, 1454 E. State Route 73 \, Springboro\, OH\, 45066\, United States
CATEGORIES:Operating Hours
END:VEVENT
BEGIN:VEVENT
DTSTART;TZID=America/Chicago:20191014T110000
DTEND;TZID=America/Chicago:20191014T170000
DTSTAMP:20260425T111006
CREATED:20190520T132209Z
LAST-MODIFIED:20190520T132209Z
UID:887-1571050800-1571072400@www.windmillfarmmarket.com
SUMMARY:Private Hayrides
DESCRIPTION:Contact usÿdirectly for private hayrides during the week – minimum 10 children. Otherwise\, our public hayrides are on the weekends from 11am to 5pm – so come on by!ÿ
URL:https://www.windmillfarmmarket.com/event/private-hayrides-17/
LOCATION:Windmill Farm Market\, 1454 E. State Route 73 \, Springboro\, OH\, 45066\, United States
CATEGORIES:Operating Hours
END:VEVENT
BEGIN:VEVENT
DTSTART;TZID=America/Chicago:20191014T100000
DTEND;TZID=America/Chicago:20191014T180000
DTSTAMP:20260425T111006
CREATED:20190520T132159Z
LAST-MODIFIED:20190520T132159Z
UID:857-1571047200-1571076000@www.windmillfarmmarket.com
SUMMARY:Market
DESCRIPTION:Our market is open anytime during the Spooktacular festival from 10am to 6pm!
URL:https://www.windmillfarmmarket.com/event/market-24/
LOCATION:Windmill Farm Market\, 1454 E. State Route 73 \, Springboro\, OH\, 45066\, United States
CATEGORIES:Operating Hours
END:VEVENT
END:VCALENDAR