BEGIN:VCALENDAR
VERSION:2.0
PRODID:-//Windmill Farm Market - ECPv6.15.20//NONSGML v1.0//EN
CALSCALE:GREGORIAN
METHOD:PUBLISH
X-WR-CALNAME:Windmill Farm Market
X-ORIGINAL-URL:https://www.windmillfarmmarket.com
X-WR-CALDESC:Events for Windmill Farm Market
REFRESH-INTERVAL;VALUE=DURATION:PT1H
X-Robots-Tag:noindex
X-PUBLISHED-TTL:PT1H
BEGIN:VTIMEZONE
TZID:America/Chicago
BEGIN:DAYLIGHT
TZOFFSETFROM:-0600
TZOFFSETTO:-0500
TZNAME:CDT
DTSTART:20250309T080000
END:DAYLIGHT
BEGIN:STANDARD
TZOFFSETFROM:-0500
TZOFFSETTO:-0600
TZNAME:CST
DTSTART:20251102T070000
END:STANDARD
BEGIN:DAYLIGHT
TZOFFSETFROM:-0600
TZOFFSETTO:-0500
TZNAME:CDT
DTSTART:20260308T080000
END:DAYLIGHT
BEGIN:STANDARD
TZOFFSETFROM:-0500
TZOFFSETTO:-0600
TZNAME:CST
DTSTART:20261101T070000
END:STANDARD
BEGIN:DAYLIGHT
TZOFFSETFROM:-0600
TZOFFSETTO:-0500
TZNAME:CDT
DTSTART:20270314T080000
END:DAYLIGHT
BEGIN:STANDARD
TZOFFSETFROM:-0500
TZOFFSETTO:-0600
TZNAME:CST
DTSTART:20271107T070000
END:STANDARD
END:VTIMEZONE
BEGIN:VEVENT
DTSTART;TZID=America/Chicago:20261010T100000
DTEND;TZID=America/Chicago:20261010T100000
DTSTAMP:20260423T172553
CREATED:20260403T133436Z
LAST-MODIFIED:20260403T133436Z
UID:2121-1791626400-1791626400@www.windmillfarmmarket.com
SUMMARY:Market
DESCRIPTION:Our market is open anytime during the Spooktacular festival from 10am to 6pm!
URL:https://www.windmillfarmmarket.com/event/market-237/
LOCATION:Windmill Farm Market\, 1454 E. State Route 73 \, Springboro\, OH\, 45066\, United States
END:VEVENT
BEGIN:VEVENT
DTSTART;TZID=America/Chicago:20261010T110000
DTEND;TZID=America/Chicago:20261010T110000
DTSTAMP:20260423T172553
CREATED:20260403T133334Z
LAST-MODIFIED:20260403T133334Z
UID:2101-1791630000-1791630000@www.windmillfarmmarket.com
SUMMARY:Public Hayrides
DESCRIPTION:Our public hayrides are on Friday from 11am – 6pm and on the weekends from 11am to 5pm – so come on by! Contact us directly for private hayrides on Wednesday and Thursday!
URL:https://www.windmillfarmmarket.com/event/public-hayrides-106/
LOCATION:Windmill Farm Market\, 1454 E. State Route 73 \, Springboro\, OH\, 45066\, United States
END:VEVENT
BEGIN:VEVENT
DTSTART;TZID=America/Chicago:20261011T100000
DTEND;TZID=America/Chicago:20261011T100000
DTSTAMP:20260423T172553
CREATED:20260403T133436Z
LAST-MODIFIED:20260403T133436Z
UID:2122-1791712800-1791712800@www.windmillfarmmarket.com
SUMMARY:Market
DESCRIPTION:Our market is open anytime during the Spooktacular festival from 10am to 6pm!
URL:https://www.windmillfarmmarket.com/event/market-238/
LOCATION:Windmill Farm Market\, 1454 E. State Route 73 \, Springboro\, OH\, 45066\, United States
END:VEVENT
BEGIN:VEVENT
DTSTART;TZID=America/Chicago:20261011T110000
DTEND;TZID=America/Chicago:20261011T110000
DTSTAMP:20260423T172553
CREATED:20260403T133334Z
LAST-MODIFIED:20260403T133334Z
UID:2102-1791716400-1791716400@www.windmillfarmmarket.com
SUMMARY:Public Hayrides
DESCRIPTION:Our public hayrides are on Friday from 11am – 6pm and on the weekends from 11am to 5pm – so come on by! Contact us directly for private hayrides on Wednesday and Thursday!
URL:https://www.windmillfarmmarket.com/event/public-hayrides-107/
LOCATION:Windmill Farm Market\, 1454 E. State Route 73 \, Springboro\, OH\, 45066\, United States
END:VEVENT
BEGIN:VEVENT
DTSTART;TZID=America/Chicago:20261014T090000
DTEND;TZID=America/Chicago:20261014T090000
DTSTAMP:20260423T172553
CREATED:20260403T133629Z
LAST-MODIFIED:20260403T133629Z
UID:2141-1791968400-1791968400@www.windmillfarmmarket.com
SUMMARY:Private Hayrides
DESCRIPTION:Contact us directly for private hayrides on Wednesday and Thursday – minimum 10 children. Otherwise\, checkout our public hayrides Friday through Sunday!
URL:https://www.windmillfarmmarket.com/event/private-hayrides-153/
LOCATION:Windmill Farm Market\, 1454 E. State Route 73 \, Springboro\, OH\, 45066\, United States
END:VEVENT
BEGIN:VEVENT
DTSTART;TZID=America/Chicago:20261014T100000
DTEND;TZID=America/Chicago:20261014T100000
DTSTAMP:20260423T172553
CREATED:20260403T133436Z
LAST-MODIFIED:20260403T133436Z
UID:2123-1791972000-1791972000@www.windmillfarmmarket.com
SUMMARY:Market
DESCRIPTION:Our market is open anytime during the Spooktacular festival from 10am to 6pm!
URL:https://www.windmillfarmmarket.com/event/market-239/
LOCATION:Windmill Farm Market\, 1454 E. State Route 73 \, Springboro\, OH\, 45066\, United States
END:VEVENT
BEGIN:VEVENT
DTSTART;TZID=America/Chicago:20261015T090000
DTEND;TZID=America/Chicago:20261015T090000
DTSTAMP:20260423T172553
CREATED:20260403T133629Z
LAST-MODIFIED:20260403T133629Z
UID:2142-1792054800-1792054800@www.windmillfarmmarket.com
SUMMARY:Private Hayrides
DESCRIPTION:Contact us directly for private hayrides on Wednesday and Thursday – minimum 10 children. Otherwise\, checkout our public hayrides Friday through Sunday!
URL:https://www.windmillfarmmarket.com/event/private-hayrides-154/
LOCATION:Windmill Farm Market\, 1454 E. State Route 73 \, Springboro\, OH\, 45066\, United States
END:VEVENT
BEGIN:VEVENT
DTSTART;TZID=America/Chicago:20261015T100000
DTEND;TZID=America/Chicago:20261015T100000
DTSTAMP:20260423T172553
CREATED:20260403T133437Z
LAST-MODIFIED:20260403T133437Z
UID:2124-1792058400-1792058400@www.windmillfarmmarket.com
SUMMARY:Market
DESCRIPTION:Our market is open anytime during the Spooktacular festival from 10am to 6pm!
URL:https://www.windmillfarmmarket.com/event/market-240/
LOCATION:Windmill Farm Market\, 1454 E. State Route 73 \, Springboro\, OH\, 45066\, United States
END:VEVENT
BEGIN:VEVENT
DTSTART;TZID=America/Chicago:20261016T100000
DTEND;TZID=America/Chicago:20261016T100000
DTSTAMP:20260423T172553
CREATED:20260403T133451Z
LAST-MODIFIED:20260403T133451Z
UID:2125-1792144800-1792144800@www.windmillfarmmarket.com
SUMMARY:Market
DESCRIPTION:Our market is open anytime during the Spooktacular festival from 10am to 6pm!
URL:https://www.windmillfarmmarket.com/event/market-241/
LOCATION:Windmill Farm Market\, 1454 E. State Route 73 \, Springboro\, OH\, 45066\, United States
END:VEVENT
BEGIN:VEVENT
DTSTART;TZID=America/Chicago:20261016T110000
DTEND;TZID=America/Chicago:20261016T110000
DTSTAMP:20260423T172553
CREATED:20260403T133334Z
LAST-MODIFIED:20260403T133334Z
UID:2103-1792148400-1792148400@www.windmillfarmmarket.com
SUMMARY:Public Hayrides
DESCRIPTION:Our public hayrides are on Friday from 11am – 6pm and on the weekends from 11am to 5pm – so come on by! Contact us directly for private hayrides on Wednesday and Thursday!
URL:https://www.windmillfarmmarket.com/event/public-hayrides-108/
LOCATION:Windmill Farm Market\, 1454 E. State Route 73 \, Springboro\, OH\, 45066\, United States
END:VEVENT
BEGIN:VEVENT
DTSTART;TZID=America/Chicago:20261017T100000
DTEND;TZID=America/Chicago:20261017T100000
DTSTAMP:20260423T172553
CREATED:20260403T133451Z
LAST-MODIFIED:20260403T133451Z
UID:2126-1792231200-1792231200@www.windmillfarmmarket.com
SUMMARY:Market
DESCRIPTION:Our market is open anytime during the Spooktacular festival from 10am to 6pm!
URL:https://www.windmillfarmmarket.com/event/market-242/
LOCATION:Windmill Farm Market\, 1454 E. State Route 73 \, Springboro\, OH\, 45066\, United States
END:VEVENT
BEGIN:VEVENT
DTSTART;TZID=America/Chicago:20261017T110000
DTEND;TZID=America/Chicago:20261017T110000
DTSTAMP:20260423T172553
CREATED:20260403T133334Z
LAST-MODIFIED:20260403T133334Z
UID:2104-1792234800-1792234800@www.windmillfarmmarket.com
SUMMARY:Public Hayrides
DESCRIPTION:Our public hayrides are on Friday from 11am – 6pm and on the weekends from 11am to 5pm – so come on by! Contact us directly for private hayrides on Wednesday and Thursday!
URL:https://www.windmillfarmmarket.com/event/public-hayrides-109/
LOCATION:Windmill Farm Market\, 1454 E. State Route 73 \, Springboro\, OH\, 45066\, United States
END:VEVENT
BEGIN:VEVENT
DTSTART;TZID=America/Chicago:20261018T100000
DTEND;TZID=America/Chicago:20261018T100000
DTSTAMP:20260423T172553
CREATED:20260403T133451Z
LAST-MODIFIED:20260403T133451Z
UID:2127-1792317600-1792317600@www.windmillfarmmarket.com
SUMMARY:Market
DESCRIPTION:Our market is open anytime during the Spooktacular festival from 10am to 6pm!
URL:https://www.windmillfarmmarket.com/event/market-243/
LOCATION:Windmill Farm Market\, 1454 E. State Route 73 \, Springboro\, OH\, 45066\, United States
END:VEVENT
BEGIN:VEVENT
DTSTART;TZID=America/Chicago:20261018T110000
DTEND;TZID=America/Chicago:20261018T110000
DTSTAMP:20260423T172553
CREATED:20260403T133350Z
LAST-MODIFIED:20260403T133350Z
UID:2105-1792321200-1792321200@www.windmillfarmmarket.com
SUMMARY:Public Hayrides
DESCRIPTION:Our public hayrides are on Friday from 11am – 6pm and on the weekends from 11am to 5pm – so come on by! Contact us directly for private hayrides on Wednesday and Thursday!
URL:https://www.windmillfarmmarket.com/event/public-hayrides-110/
LOCATION:Windmill Farm Market\, 1454 E. State Route 73 \, Springboro\, OH\, 45066\, United States
END:VEVENT
BEGIN:VEVENT
DTSTART;TZID=America/Chicago:20261021T090000
DTEND;TZID=America/Chicago:20261021T090000
DTSTAMP:20260423T172553
CREATED:20260403T133629Z
LAST-MODIFIED:20260403T133629Z
UID:2143-1792573200-1792573200@www.windmillfarmmarket.com
SUMMARY:Private Hayrides
DESCRIPTION:Contact us directly for private hayrides on Wednesday and Thursday – minimum 10 children. Otherwise\, checkout our public hayrides Friday through Sunday!
URL:https://www.windmillfarmmarket.com/event/private-hayrides-155/
LOCATION:Windmill Farm Market\, 1454 E. State Route 73 \, Springboro\, OH\, 45066\, United States
END:VEVENT
BEGIN:VEVENT
DTSTART;TZID=America/Chicago:20261021T100000
DTEND;TZID=America/Chicago:20261021T100000
DTSTAMP:20260423T172553
CREATED:20260403T133451Z
LAST-MODIFIED:20260403T133451Z
UID:2128-1792576800-1792576800@www.windmillfarmmarket.com
SUMMARY:Market
DESCRIPTION:Our market is open anytime during the Spooktacular festival from 10am to 6pm!
URL:https://www.windmillfarmmarket.com/event/market-244/
LOCATION:Windmill Farm Market\, 1454 E. State Route 73 \, Springboro\, OH\, 45066\, United States
END:VEVENT
BEGIN:VEVENT
DTSTART;TZID=America/Chicago:20261022T090000
DTEND;TZID=America/Chicago:20261022T090000
DTSTAMP:20260423T172553
CREATED:20260403T133630Z
LAST-MODIFIED:20260403T133630Z
UID:2144-1792659600-1792659600@www.windmillfarmmarket.com
SUMMARY:Private Hayrides
DESCRIPTION:Contact us directly for private hayrides on Wednesday and Thursday – minimum 10 children. Otherwise\, checkout our public hayrides Friday through Sunday!
URL:https://www.windmillfarmmarket.com/event/private-hayrides-156/
LOCATION:Windmill Farm Market\, 1454 E. State Route 73 \, Springboro\, OH\, 45066\, United States
END:VEVENT
BEGIN:VEVENT
DTSTART;TZID=America/Chicago:20261022T100000
DTEND;TZID=America/Chicago:20261022T100000
DTSTAMP:20260423T172553
CREATED:20260403T133452Z
LAST-MODIFIED:20260403T133452Z
UID:2129-1792663200-1792663200@www.windmillfarmmarket.com
SUMMARY:Market
DESCRIPTION:Our market is open anytime during the Spooktacular festival from 10am to 6pm!
URL:https://www.windmillfarmmarket.com/event/market-245/
LOCATION:Windmill Farm Market\, 1454 E. State Route 73 \, Springboro\, OH\, 45066\, United States
END:VEVENT
BEGIN:VEVENT
DTSTART;TZID=America/Chicago:20261023T100000
DTEND;TZID=America/Chicago:20261023T100000
DTSTAMP:20260423T172553
CREATED:20260403T133506Z
LAST-MODIFIED:20260403T133506Z
UID:2130-1792749600-1792749600@www.windmillfarmmarket.com
SUMMARY:Market
DESCRIPTION:Our market is open anytime during the Spooktacular festival from 10am to 6pm!
URL:https://www.windmillfarmmarket.com/event/market-246/
LOCATION:Windmill Farm Market\, 1454 E. State Route 73 \, Springboro\, OH\, 45066\, United States
END:VEVENT
BEGIN:VEVENT
DTSTART;TZID=America/Chicago:20261023T110000
DTEND;TZID=America/Chicago:20261023T110000
DTSTAMP:20260423T172553
CREATED:20260403T133350Z
LAST-MODIFIED:20260403T133350Z
UID:2106-1792753200-1792753200@www.windmillfarmmarket.com
SUMMARY:Public Hayrides
DESCRIPTION:Our public hayrides are on Friday from 11am – 6pm and on the weekends from 11am to 5pm – so come on by! Contact us directly for private hayrides on Wednesday and Thursday!
URL:https://www.windmillfarmmarket.com/event/public-hayrides-111/
LOCATION:Windmill Farm Market\, 1454 E. State Route 73 \, Springboro\, OH\, 45066\, United States
END:VEVENT
BEGIN:VEVENT
DTSTART;TZID=America/Chicago:20261024T100000
DTEND;TZID=America/Chicago:20261024T100000
DTSTAMP:20260423T172553
CREATED:20260403T133506Z
LAST-MODIFIED:20260403T133506Z
UID:2131-1792836000-1792836000@www.windmillfarmmarket.com
SUMMARY:Market
DESCRIPTION:Our market is open anytime during the Spooktacular festival from 10am to 6pm!
URL:https://www.windmillfarmmarket.com/event/market-247/
LOCATION:Windmill Farm Market\, 1454 E. State Route 73 \, Springboro\, OH\, 45066\, United States
END:VEVENT
BEGIN:VEVENT
DTSTART;TZID=America/Chicago:20261024T110000
DTEND;TZID=America/Chicago:20261024T110000
DTSTAMP:20260423T172553
CREATED:20260403T133350Z
LAST-MODIFIED:20260403T133350Z
UID:2107-1792839600-1792839600@www.windmillfarmmarket.com
SUMMARY:Public Hayrides
DESCRIPTION:Our public hayrides are on Friday from 11am – 6pm and on the weekends from 11am to 5pm – so come on by! Contact us directly for private hayrides on Wednesday and Thursday!
URL:https://www.windmillfarmmarket.com/event/public-hayrides-112/
LOCATION:Windmill Farm Market\, 1454 E. State Route 73 \, Springboro\, OH\, 45066\, United States
END:VEVENT
BEGIN:VEVENT
DTSTART;TZID=America/Chicago:20261025T100000
DTEND;TZID=America/Chicago:20261025T100000
DTSTAMP:20260423T172553
CREATED:20260403T133506Z
LAST-MODIFIED:20260403T133506Z
UID:2132-1792922400-1792922400@www.windmillfarmmarket.com
SUMMARY:Market
DESCRIPTION:Our market is open anytime during the Spooktacular festival from 10am to 6pm!
URL:https://www.windmillfarmmarket.com/event/market-248/
LOCATION:Windmill Farm Market\, 1454 E. State Route 73 \, Springboro\, OH\, 45066\, United States
END:VEVENT
BEGIN:VEVENT
DTSTART;TZID=America/Chicago:20261025T110000
DTEND;TZID=America/Chicago:20261025T110000
DTSTAMP:20260423T172553
CREATED:20260403T133351Z
LAST-MODIFIED:20260403T133351Z
UID:2108-1792926000-1792926000@www.windmillfarmmarket.com
SUMMARY:Public Hayrides
DESCRIPTION:Our public hayrides are on Friday from 11am – 6pm and on the weekends from 11am to 5pm – so come on by! Contact us directly for private hayrides on Wednesday and Thursday!
URL:https://www.windmillfarmmarket.com/event/public-hayrides-113/
LOCATION:Windmill Farm Market\, 1454 E. State Route 73 \, Springboro\, OH\, 45066\, United States
END:VEVENT
BEGIN:VEVENT
DTSTART;TZID=America/Chicago:20261028T090000
DTEND;TZID=America/Chicago:20261028T090000
DTSTAMP:20260423T172553
CREATED:20260403T133643Z
LAST-MODIFIED:20260403T133643Z
UID:2145-1793178000-1793178000@www.windmillfarmmarket.com
SUMMARY:Private Hayrides
DESCRIPTION:Contact us directly for private hayrides on Wednesday and Thursday – minimum 10 children. Otherwise\, checkout our public hayrides Friday through Sunday!
URL:https://www.windmillfarmmarket.com/event/private-hayrides-157/
LOCATION:Windmill Farm Market\, 1454 E. State Route 73 \, Springboro\, OH\, 45066\, United States
END:VEVENT
BEGIN:VEVENT
DTSTART;TZID=America/Chicago:20261028T100000
DTEND;TZID=America/Chicago:20261028T100000
DTSTAMP:20260423T172553
CREATED:20260403T133506Z
LAST-MODIFIED:20260403T133506Z
UID:2133-1793181600-1793181600@www.windmillfarmmarket.com
SUMMARY:Market
DESCRIPTION:Our market is open anytime during the Spooktacular festival from 10am to 6pm!
URL:https://www.windmillfarmmarket.com/event/market-249/
LOCATION:Windmill Farm Market\, 1454 E. State Route 73 \, Springboro\, OH\, 45066\, United States
END:VEVENT
BEGIN:VEVENT
DTSTART;TZID=America/Chicago:20261029T090000
DTEND;TZID=America/Chicago:20261029T090000
DTSTAMP:20260423T172553
CREATED:20260403T133644Z
LAST-MODIFIED:20260403T133644Z
UID:2146-1793264400-1793264400@www.windmillfarmmarket.com
SUMMARY:Private Hayrides
DESCRIPTION:Contact us directly for private hayrides on Wednesday and Thursday – minimum 10 children. Otherwise\, checkout our public hayrides Friday through Sunday!
URL:https://www.windmillfarmmarket.com/event/private-hayrides-158/
LOCATION:Windmill Farm Market\, 1454 E. State Route 73 \, Springboro\, OH\, 45066\, United States
END:VEVENT
BEGIN:VEVENT
DTSTART;TZID=America/Chicago:20261029T100000
DTEND;TZID=America/Chicago:20261029T100000
DTSTAMP:20260423T172553
CREATED:20260403T133506Z
LAST-MODIFIED:20260403T133506Z
UID:2134-1793268000-1793268000@www.windmillfarmmarket.com
SUMMARY:Market
DESCRIPTION:Our market is open anytime during the Spooktacular festival from 10am to 6pm!
URL:https://www.windmillfarmmarket.com/event/market-250/
LOCATION:Windmill Farm Market\, 1454 E. State Route 73 \, Springboro\, OH\, 45066\, United States
END:VEVENT
BEGIN:VEVENT
DTSTART;TZID=America/Chicago:20261030T100000
DTEND;TZID=America/Chicago:20261030T100000
DTSTAMP:20260423T172553
CREATED:20260403T133521Z
LAST-MODIFIED:20260403T133521Z
UID:2135-1793354400-1793354400@www.windmillfarmmarket.com
SUMMARY:Market
DESCRIPTION:Our market is open anytime during the Spooktacular festival from 10am to 6pm!
URL:https://www.windmillfarmmarket.com/event/market-251/
LOCATION:Windmill Farm Market\, 1454 E. State Route 73 \, Springboro\, OH\, 45066\, United States
END:VEVENT
BEGIN:VEVENT
DTSTART;TZID=America/Chicago:20261030T110000
DTEND;TZID=America/Chicago:20261030T110000
DTSTAMP:20260423T172553
CREATED:20260403T133351Z
LAST-MODIFIED:20260403T133351Z
UID:2109-1793358000-1793358000@www.windmillfarmmarket.com
SUMMARY:Public Hayrides
DESCRIPTION:Our public hayrides are on Friday from 11am – 6pm and on the weekends from 11am to 5pm – so come on by! Contact us directly for private hayrides on Wednesday and Thursday!
URL:https://www.windmillfarmmarket.com/event/public-hayrides-114/
LOCATION:Windmill Farm Market\, 1454 E. State Route 73 \, Springboro\, OH\, 45066\, United States
END:VEVENT
END:VCALENDAR