BEGIN:VCALENDAR
VERSION:2.0
PRODID:-//Windmill Farm Market - ECPv6.15.20//NONSGML v1.0//EN
CALSCALE:GREGORIAN
METHOD:PUBLISH
X-WR-CALNAME:Windmill Farm Market
X-ORIGINAL-URL:https://www.windmillfarmmarket.com
X-WR-CALDESC:Events for Windmill Farm Market
REFRESH-INTERVAL;VALUE=DURATION:PT1H
X-Robots-Tag:noindex
X-PUBLISHED-TTL:PT1H
BEGIN:VTIMEZONE
TZID:America/Chicago
BEGIN:DAYLIGHT
TZOFFSETFROM:-0600
TZOFFSETTO:-0500
TZNAME:CDT
DTSTART:20190310T080000
END:DAYLIGHT
BEGIN:STANDARD
TZOFFSETFROM:-0500
TZOFFSETTO:-0600
TZNAME:CST
DTSTART:20191103T070000
END:STANDARD
BEGIN:DAYLIGHT
TZOFFSETFROM:-0600
TZOFFSETTO:-0500
TZNAME:CDT
DTSTART:20200308T080000
END:DAYLIGHT
BEGIN:STANDARD
TZOFFSETFROM:-0500
TZOFFSETTO:-0600
TZNAME:CST
DTSTART:20201101T070000
END:STANDARD
BEGIN:DAYLIGHT
TZOFFSETFROM:-0600
TZOFFSETTO:-0500
TZNAME:CDT
DTSTART:20210314T080000
END:DAYLIGHT
BEGIN:STANDARD
TZOFFSETFROM:-0500
TZOFFSETTO:-0600
TZNAME:CST
DTSTART:20211107T070000
END:STANDARD
BEGIN:DAYLIGHT
TZOFFSETFROM:-0600
TZOFFSETTO:-0500
TZNAME:CDT
DTSTART:20220313T080000
END:DAYLIGHT
BEGIN:STANDARD
TZOFFSETFROM:-0500
TZOFFSETTO:-0600
TZNAME:CST
DTSTART:20221106T070000
END:STANDARD
END:VTIMEZONE
BEGIN:VEVENT
DTSTART;TZID=America/Chicago:20211008T100000
DTEND;TZID=America/Chicago:20211008T180000
DTSTAMP:20260425T112620
CREATED:20200821T161029Z
LAST-MODIFIED:20200821T161029Z
UID:1148-1633687200-1633716000@www.windmillfarmmarket.com
SUMMARY:Market
DESCRIPTION:Our market is open anytime during the Spooktacular festival from 10am to 6pm!
URL:https://www.windmillfarmmarket.com/event/market-87/
LOCATION:Windmill Farm Market\, 1454 E. State Route 73 \, Springboro\, OH\, 45066\, United States
END:VEVENT
BEGIN:VEVENT
DTSTART;TZID=America/Chicago:20211007T110000
DTEND;TZID=America/Chicago:20211007T170000
DTSTAMP:20260425T112620
CREATED:20200821T161043Z
LAST-MODIFIED:20200821T161043Z
UID:1180-1633604400-1633626000@www.windmillfarmmarket.com
SUMMARY:Private Hayrides
DESCRIPTION:Contact usÿdirectly for private hayrides during the week – minimum 10 children. Otherwise\, our public hayrides are on the weekends from 11am to 5pm – so come on by!
URL:https://www.windmillfarmmarket.com/event/private-hayrides-59/
LOCATION:Windmill Farm Market\, 1454 E. State Route 73 \, Springboro\, OH\, 45066\, United States
END:VEVENT
BEGIN:VEVENT
DTSTART;TZID=America/Chicago:20211007T100000
DTEND;TZID=America/Chicago:20211007T180000
DTSTAMP:20260425T112620
CREATED:20200821T161029Z
LAST-MODIFIED:20200821T161029Z
UID:1147-1633600800-1633629600@www.windmillfarmmarket.com
SUMMARY:Market
DESCRIPTION:Our market is open anytime during the Spooktacular festival from 10am to 6pm!
URL:https://www.windmillfarmmarket.com/event/market-86/
LOCATION:Windmill Farm Market\, 1454 E. State Route 73 \, Springboro\, OH\, 45066\, United States
END:VEVENT
BEGIN:VEVENT
DTSTART;TZID=America/Chicago:20211006T110000
DTEND;TZID=America/Chicago:20211006T170000
DTSTAMP:20260425T112620
CREATED:20200821T161043Z
LAST-MODIFIED:20200821T161043Z
UID:1179-1633518000-1633539600@www.windmillfarmmarket.com
SUMMARY:Private Hayrides
DESCRIPTION:Contact usÿdirectly for private hayrides during the week – minimum 10 children. Otherwise\, our public hayrides are on the weekends from 11am to 5pm – so come on by!
URL:https://www.windmillfarmmarket.com/event/private-hayrides-58/
LOCATION:Windmill Farm Market\, 1454 E. State Route 73 \, Springboro\, OH\, 45066\, United States
END:VEVENT
BEGIN:VEVENT
DTSTART;TZID=America/Chicago:20211006T100000
DTEND;TZID=America/Chicago:20211006T180000
DTSTAMP:20260425T112620
CREATED:20200821T161028Z
LAST-MODIFIED:20200821T161028Z
UID:1146-1633514400-1633543200@www.windmillfarmmarket.com
SUMMARY:Market
DESCRIPTION:Our market is open anytime during the Spooktacular festival from 10am to 6pm!
URL:https://www.windmillfarmmarket.com/event/market-85/
LOCATION:Windmill Farm Market\, 1454 E. State Route 73 \, Springboro\, OH\, 45066\, United States
END:VEVENT
BEGIN:VEVENT
DTSTART;TZID=America/Chicago:20211005T110000
DTEND;TZID=America/Chicago:20211005T170000
DTSTAMP:20260425T112620
CREATED:20200821T161043Z
LAST-MODIFIED:20200821T161043Z
UID:1178-1633431600-1633453200@www.windmillfarmmarket.com
SUMMARY:Private Hayrides
DESCRIPTION:Contact usÿdirectly for private hayrides during the week – minimum 10 children. Otherwise\, our public hayrides are on the weekends from 11am to 5pm – so come on by!
URL:https://www.windmillfarmmarket.com/event/private-hayrides-57/
LOCATION:Windmill Farm Market\, 1454 E. State Route 73 \, Springboro\, OH\, 45066\, United States
END:VEVENT
BEGIN:VEVENT
DTSTART;TZID=America/Chicago:20211005T100000
DTEND;TZID=America/Chicago:20211005T180000
DTSTAMP:20260425T112620
CREATED:20200821T161027Z
LAST-MODIFIED:20200821T161027Z
UID:1145-1633428000-1633456800@www.windmillfarmmarket.com
SUMMARY:Market
DESCRIPTION:Our market is open anytime during the Spooktacular festival from 10am to 6pm!
URL:https://www.windmillfarmmarket.com/event/market-84/
LOCATION:Windmill Farm Market\, 1454 E. State Route 73 \, Springboro\, OH\, 45066\, United States
END:VEVENT
BEGIN:VEVENT
DTSTART;TZID=America/Chicago:20211004T110000
DTEND;TZID=America/Chicago:20211004T170000
DTSTAMP:20260425T112620
CREATED:20200821T161043Z
LAST-MODIFIED:20200821T161043Z
UID:1177-1633345200-1633366800@www.windmillfarmmarket.com
SUMMARY:Private Hayrides
DESCRIPTION:Contact usÿdirectly for private hayrides during the week – minimum 10 children. Otherwise\, our public hayrides are on the weekends from 11am to 5pm – so come on by!
URL:https://www.windmillfarmmarket.com/event/private-hayrides-56/
LOCATION:Windmill Farm Market\, 1454 E. State Route 73 \, Springboro\, OH\, 45066\, United States
END:VEVENT
BEGIN:VEVENT
DTSTART;TZID=America/Chicago:20211004T100000
DTEND;TZID=America/Chicago:20211004T180000
DTSTAMP:20260425T112620
CREATED:20200821T161027Z
LAST-MODIFIED:20200821T161027Z
UID:1144-1633341600-1633370400@www.windmillfarmmarket.com
SUMMARY:Market
DESCRIPTION:Our market is open anytime during the Spooktacular festival from 10am to 6pm!
URL:https://www.windmillfarmmarket.com/event/market-83/
LOCATION:Windmill Farm Market\, 1454 E. State Route 73 \, Springboro\, OH\, 45066\, United States
END:VEVENT
BEGIN:VEVENT
DTSTART;TZID=America/Chicago:20211003T110000
DTEND;TZID=America/Chicago:20211003T170000
DTSTAMP:20260425T112620
CREATED:20200821T161020Z
LAST-MODIFIED:20200821T161020Z
UID:1126-1633258800-1633280400@www.windmillfarmmarket.com
SUMMARY:Public Hayrides
DESCRIPTION:Our public hayrides are on the weekends from 11am to 5pm – so come on by! Contact us directly for private hayrides during the week.
URL:https://www.windmillfarmmarket.com/event/public-hayrides-27/
LOCATION:Windmill Farm Market\, 1454 E. State Route 73 \, Springboro\, OH\, 45066\, United States
END:VEVENT
BEGIN:VEVENT
DTSTART;TZID=America/Chicago:20211003T100000
DTEND;TZID=America/Chicago:20211003T180000
DTSTAMP:20260425T112620
CREATED:20200821T161027Z
LAST-MODIFIED:20200821T161027Z
UID:1143-1633255200-1633284000@www.windmillfarmmarket.com
SUMMARY:Market
DESCRIPTION:Our market is open anytime during the Spooktacular festival from 10am to 6pm!
URL:https://www.windmillfarmmarket.com/event/market-82/
LOCATION:Windmill Farm Market\, 1454 E. State Route 73 \, Springboro\, OH\, 45066\, United States
END:VEVENT
BEGIN:VEVENT
DTSTART;TZID=America/Chicago:20211002T110000
DTEND;TZID=America/Chicago:20211002T170000
DTSTAMP:20260425T112620
CREATED:20200821T161019Z
LAST-MODIFIED:20200821T161019Z
UID:1125-1633172400-1633194000@www.windmillfarmmarket.com
SUMMARY:Public Hayrides
DESCRIPTION:Our public hayrides are on the weekends from 11am to 5pm – so come on by! Contact us directly for private hayrides during the week.
URL:https://www.windmillfarmmarket.com/event/public-hayrides-26/
LOCATION:Windmill Farm Market\, 1454 E. State Route 73 \, Springboro\, OH\, 45066\, United States
END:VEVENT
BEGIN:VEVENT
DTSTART;TZID=America/Chicago:20211002T100000
DTEND;TZID=America/Chicago:20211002T180000
DTSTAMP:20260425T112620
CREATED:20200821T161027Z
LAST-MODIFIED:20200821T161027Z
UID:1142-1633168800-1633197600@www.windmillfarmmarket.com
SUMMARY:Market
DESCRIPTION:Our market is open anytime during the Spooktacular festival from 10am to 6pm!
URL:https://www.windmillfarmmarket.com/event/market-81/
LOCATION:Windmill Farm Market\, 1454 E. State Route 73 \, Springboro\, OH\, 45066\, United States
END:VEVENT
BEGIN:VEVENT
DTSTART;TZID=America/Chicago:20211001T110000
DTEND;TZID=America/Chicago:20211001T170000
DTSTAMP:20260425T112620
CREATED:20200821T161043Z
LAST-MODIFIED:20200821T161043Z
UID:1176-1633086000-1633107600@www.windmillfarmmarket.com
SUMMARY:Private Hayrides
DESCRIPTION:Contact usÿdirectly for private hayrides during the week – minimum 10 children. Otherwise\, our public hayrides are on the weekends from 11am to 5pm – so come on by!
URL:https://www.windmillfarmmarket.com/event/private-hayrides-55/
LOCATION:Windmill Farm Market\, 1454 E. State Route 73 \, Springboro\, OH\, 45066\, United States
END:VEVENT
BEGIN:VEVENT
DTSTART;TZID=America/Chicago:20211001T100000
DTEND;TZID=America/Chicago:20211001T180000
DTSTAMP:20260425T112620
CREATED:20200821T161026Z
LAST-MODIFIED:20200821T161026Z
UID:1141-1633082400-1633111200@www.windmillfarmmarket.com
SUMMARY:Market
DESCRIPTION:Our market is open anytime during the Spooktacular festival from 10am to 6pm!
URL:https://www.windmillfarmmarket.com/event/market-80/
LOCATION:Windmill Farm Market\, 1454 E. State Route 73 \, Springboro\, OH\, 45066\, United States
END:VEVENT
BEGIN:VEVENT
DTSTART;TZID=America/Chicago:20210930T110000
DTEND;TZID=America/Chicago:20210930T170000
DTSTAMP:20260425T112620
CREATED:20200821T161041Z
LAST-MODIFIED:20200821T161041Z
UID:1175-1632999600-1633021200@www.windmillfarmmarket.com
SUMMARY:Private Hayrides
DESCRIPTION:Contact usÿdirectly for private hayrides during the week – minimum 10 children. Otherwise\, our public hayrides are on the weekends from 11am to 5pm – so come on by!
URL:https://www.windmillfarmmarket.com/event/private-hayrides-54/
LOCATION:Windmill Farm Market\, 1454 E. State Route 73 \, Springboro\, OH\, 45066\, United States
END:VEVENT
BEGIN:VEVENT
DTSTART;TZID=America/Chicago:20210930T100000
DTEND;TZID=America/Chicago:20210930T180000
DTSTAMP:20260425T112620
CREATED:20200821T161025Z
LAST-MODIFIED:20200821T161025Z
UID:1140-1632996000-1633024800@www.windmillfarmmarket.com
SUMMARY:Market
DESCRIPTION:Our market is open anytime during the Spooktacular festival from 10am to 6pm!
URL:https://www.windmillfarmmarket.com/event/market-79/
LOCATION:Windmill Farm Market\, 1454 E. State Route 73 \, Springboro\, OH\, 45066\, United States
END:VEVENT
BEGIN:VEVENT
DTSTART;TZID=America/Chicago:20210929T110000
DTEND;TZID=America/Chicago:20210929T170000
DTSTAMP:20260425T112620
CREATED:20200821T161041Z
LAST-MODIFIED:20200821T161041Z
UID:1174-1632913200-1632934800@www.windmillfarmmarket.com
SUMMARY:Private Hayrides
DESCRIPTION:Contact usÿdirectly for private hayrides during the week – minimum 10 children. Otherwise\, our public hayrides are on the weekends from 11am to 5pm – so come on by!
URL:https://www.windmillfarmmarket.com/event/private-hayrides-53/
LOCATION:Windmill Farm Market\, 1454 E. State Route 73 \, Springboro\, OH\, 45066\, United States
END:VEVENT
BEGIN:VEVENT
DTSTART;TZID=America/Chicago:20210929T100000
DTEND;TZID=America/Chicago:20210929T180000
DTSTAMP:20260425T112620
CREATED:20200821T161025Z
LAST-MODIFIED:20200821T161025Z
UID:1139-1632909600-1632938400@www.windmillfarmmarket.com
SUMMARY:Market
DESCRIPTION:Our market is open anytime during the Spooktacular festival from 10am to 6pm!
URL:https://www.windmillfarmmarket.com/event/market-78/
LOCATION:Windmill Farm Market\, 1454 E. State Route 73 \, Springboro\, OH\, 45066\, United States
END:VEVENT
BEGIN:VEVENT
DTSTART;TZID=America/Chicago:20210928T110000
DTEND;TZID=America/Chicago:20210928T170000
DTSTAMP:20260425T112620
CREATED:20200821T161041Z
LAST-MODIFIED:20200821T161041Z
UID:1173-1632826800-1632848400@www.windmillfarmmarket.com
SUMMARY:Private Hayrides
DESCRIPTION:Contact usÿdirectly for private hayrides during the week – minimum 10 children. Otherwise\, our public hayrides are on the weekends from 11am to 5pm – so come on by!
URL:https://www.windmillfarmmarket.com/event/private-hayrides-52/
LOCATION:Windmill Farm Market\, 1454 E. State Route 73 \, Springboro\, OH\, 45066\, United States
END:VEVENT
BEGIN:VEVENT
DTSTART;TZID=America/Chicago:20210928T100000
DTEND;TZID=America/Chicago:20210928T180000
DTSTAMP:20260425T112620
CREATED:20200821T161025Z
LAST-MODIFIED:20200821T161025Z
UID:1138-1632823200-1632852000@www.windmillfarmmarket.com
SUMMARY:Market
DESCRIPTION:Our market is open anytime during the Spooktacular festival from 10am to 6pm!
URL:https://www.windmillfarmmarket.com/event/market-77/
LOCATION:Windmill Farm Market\, 1454 E. State Route 73 \, Springboro\, OH\, 45066\, United States
END:VEVENT
BEGIN:VEVENT
DTSTART;TZID=America/Chicago:20210927T110000
DTEND;TZID=America/Chicago:20210927T170000
DTSTAMP:20260425T112620
CREATED:20200821T161041Z
LAST-MODIFIED:20200821T161041Z
UID:1172-1632740400-1632762000@www.windmillfarmmarket.com
SUMMARY:Private Hayrides
DESCRIPTION:Contact usÿdirectly for private hayrides during the week – minimum 10 children. Otherwise\, our public hayrides are on the weekends from 11am to 5pm – so come on by!
URL:https://www.windmillfarmmarket.com/event/private-hayrides-51/
LOCATION:Windmill Farm Market\, 1454 E. State Route 73 \, Springboro\, OH\, 45066\, United States
END:VEVENT
BEGIN:VEVENT
DTSTART;TZID=America/Chicago:20210927T100000
DTEND;TZID=America/Chicago:20210927T180000
DTSTAMP:20260425T112620
CREATED:20200821T161024Z
LAST-MODIFIED:20200821T161024Z
UID:1137-1632736800-1632765600@www.windmillfarmmarket.com
SUMMARY:Market
DESCRIPTION:Our market is open anytime during the Spooktacular festival from 10am to 6pm!
URL:https://www.windmillfarmmarket.com/event/market-76/
LOCATION:Windmill Farm Market\, 1454 E. State Route 73 \, Springboro\, OH\, 45066\, United States
END:VEVENT
BEGIN:VEVENT
DTSTART;TZID=America/Chicago:20210926T110000
DTEND;TZID=America/Chicago:20210926T170000
DTSTAMP:20260425T112620
CREATED:20200821T161018Z
LAST-MODIFIED:20200821T161018Z
UID:1124-1632654000-1632675600@www.windmillfarmmarket.com
SUMMARY:Public Hayrides
DESCRIPTION:Our public hayrides are on the weekends from 11am to 5pm – so come on by! Contact us directly for private hayrides during the week.
URL:https://www.windmillfarmmarket.com/event/public-hayrides-25/
LOCATION:Windmill Farm Market\, 1454 E. State Route 73 \, Springboro\, OH\, 45066\, United States
END:VEVENT
BEGIN:VEVENT
DTSTART;TZID=America/Chicago:20210926T100000
DTEND;TZID=America/Chicago:20210926T180000
DTSTAMP:20260425T112620
CREATED:20200821T161024Z
LAST-MODIFIED:20200821T161024Z
UID:1136-1632650400-1632679200@www.windmillfarmmarket.com
SUMMARY:Market
DESCRIPTION:Our market is open anytime during the Spooktacular festival from 10am to 6pm!
URL:https://www.windmillfarmmarket.com/event/market-75/
LOCATION:Windmill Farm Market\, 1454 E. State Route 73 \, Springboro\, OH\, 45066\, United States
END:VEVENT
BEGIN:VEVENT
DTSTART;TZID=America/Chicago:20210925T110000
DTEND;TZID=America/Chicago:20210925T170000
DTSTAMP:20260425T112620
CREATED:20200821T161018Z
LAST-MODIFIED:20200821T161018Z
UID:1123-1632567600-1632589200@www.windmillfarmmarket.com
SUMMARY:Public Hayrides
DESCRIPTION:Our public hayrides are on the weekends from 11am to 5pm – so come on by! Contact us directly for private hayrides during the week.
URL:https://www.windmillfarmmarket.com/event/public-hayrides-24/
LOCATION:Windmill Farm Market\, 1454 E. State Route 73 \, Springboro\, OH\, 45066\, United States
END:VEVENT
BEGIN:VEVENT
DTSTART;TZID=America/Chicago:20210925T100000
DTEND;TZID=America/Chicago:20210925T180000
DTSTAMP:20260425T112620
CREATED:20200821T161023Z
LAST-MODIFIED:20200821T161023Z
UID:1135-1632564000-1632592800@www.windmillfarmmarket.com
SUMMARY:Market
DESCRIPTION:Our market is open anytime during the Spooktacular festival from 10am to 6pm!
URL:https://www.windmillfarmmarket.com/event/market-74/
LOCATION:Windmill Farm Market\, 1454 E. State Route 73 \, Springboro\, OH\, 45066\, United States
END:VEVENT
BEGIN:VEVENT
DTSTART;TZID=America/Chicago:20201031T110000
DTEND;TZID=America/Chicago:20201031T170000
DTSTAMP:20260425T112620
CREATED:20200413T190738Z
LAST-MODIFIED:20200821T160957Z
UID:968-1604142000-1604163600@www.windmillfarmmarket.com
SUMMARY:Public Hayrides
DESCRIPTION:Notice for 2020 Hayride SeasonIt is with great sadness that we have made the difficult decision to not open Windmill Farm Market for the 2020 season. \nThe ongoing difficulties caused by covid 19 and our concern for the health and safety of our customers and employees have left us no choice but this one. \nWe have begun making great plans for our 2021 season and look forward to seeing all of you next year. \nIn the meantime we are wishing all of you health and happiness.
URL:https://www.windmillfarmmarket.com/event/public-hayrides-23/
LOCATION:Windmill Farm Market\, 1454 E. State Route 73 \, Springboro\, OH\, 45066\, United States
CATEGORIES:Operating Hours
END:VEVENT
BEGIN:VEVENT
DTSTART;TZID=America/Chicago:20201031T100000
DTEND;TZID=America/Chicago:20201031T180000
DTSTAMP:20260425T112620
CREATED:20200413T190752Z
LAST-MODIFIED:20200821T161010Z
UID:1004-1604138400-1604167200@www.windmillfarmmarket.com
SUMMARY:Market
DESCRIPTION:Our market is open anytime during the Spooktacular festival from 10am to 6pm!
URL:https://www.windmillfarmmarket.com/event/market-73/
LOCATION:Windmill Farm Market\, 1454 E. State Route 73 \, Springboro\, OH\, 45066\, United States
CATEGORIES:Operating Hours
END:VEVENT
BEGIN:VEVENT
DTSTART;TZID=America/Chicago:20201030T110000
DTEND;TZID=America/Chicago:20201030T170000
DTSTAMP:20260425T112620
CREATED:20200413T190801Z
LAST-MODIFIED:20200821T161018Z
UID:1029-1604055600-1604077200@www.windmillfarmmarket.com
SUMMARY:Private Hayrides
DESCRIPTION:Notice for 2020 Hayride SeasonIt is with great sadness that we have made the difficult decision to not open Windmill Farm Market for the 2020 season. \nThe ongoing difficulties caused by covid 19 and our concern for the health and safety of our customers and employees have left us no choice but this one. \nWe have begun making great plans for our 2021 season and look forward to seeing all of you next year. \nIn the meantime we are wishing all of you health and happiness.
URL:https://www.windmillfarmmarket.com/event/private-hayrides-50/
LOCATION:Windmill Farm Market\, 1454 E. State Route 73 \, Springboro\, OH\, 45066\, United States
CATEGORIES:Operating Hours
END:VEVENT
END:VCALENDAR