BEGIN:VCALENDAR
VERSION:2.0
PRODID:-//Windmill Farm Market - ECPv6.15.20//NONSGML v1.0//EN
CALSCALE:GREGORIAN
METHOD:PUBLISH
X-WR-CALNAME:Windmill Farm Market
X-ORIGINAL-URL:https://www.windmillfarmmarket.com
X-WR-CALDESC:Events for Windmill Farm Market
REFRESH-INTERVAL;VALUE=DURATION:PT1H
X-Robots-Tag:noindex
X-PUBLISHED-TTL:PT1H
BEGIN:VTIMEZONE
TZID:America/Chicago
BEGIN:DAYLIGHT
TZOFFSETFROM:-0600
TZOFFSETTO:-0500
TZNAME:CDT
DTSTART:20200308T080000
END:DAYLIGHT
BEGIN:STANDARD
TZOFFSETFROM:-0500
TZOFFSETTO:-0600
TZNAME:CST
DTSTART:20201101T070000
END:STANDARD
BEGIN:DAYLIGHT
TZOFFSETFROM:-0600
TZOFFSETTO:-0500
TZNAME:CDT
DTSTART:20210314T080000
END:DAYLIGHT
BEGIN:STANDARD
TZOFFSETFROM:-0500
TZOFFSETTO:-0600
TZNAME:CST
DTSTART:20211107T070000
END:STANDARD
BEGIN:DAYLIGHT
TZOFFSETFROM:-0600
TZOFFSETTO:-0500
TZNAME:CDT
DTSTART:20220313T080000
END:DAYLIGHT
BEGIN:STANDARD
TZOFFSETFROM:-0500
TZOFFSETTO:-0600
TZNAME:CST
DTSTART:20221106T070000
END:STANDARD
END:VTIMEZONE
BEGIN:VEVENT
DTSTART;TZID=America/Chicago:20211021T110000
DTEND;TZID=America/Chicago:20211021T170000
DTSTAMP:20260425T071625
CREATED:20200821T161048Z
LAST-MODIFIED:20220705T193629Z
UID:1190-1634814000-1634835600@www.windmillfarmmarket.com
SUMMARY:Private Hayrides
DESCRIPTION:Contact us directly for private hayrides during the week – minimum 10 children. Otherwise\, our public hayrides are on the weekends from 11am to 5pm – so come on by! 
URL:https://www.windmillfarmmarket.com/event/private-hayrides-69/
LOCATION:Windmill Farm Market\, 1454 E. State Route 73 \, Springboro\, OH\, 45066\, United States
END:VEVENT
BEGIN:VEVENT
DTSTART;TZID=America/Chicago:20211021T100000
DTEND;TZID=America/Chicago:20211021T180000
DTSTAMP:20260425T071625
CREATED:20200821T161036Z
LAST-MODIFIED:20200821T161036Z
UID:1161-1634810400-1634839200@www.windmillfarmmarket.com
SUMMARY:Market
DESCRIPTION:Our market is open anytime during the Spooktacular festival from 10am to 6pm!
URL:https://www.windmillfarmmarket.com/event/market-100/
LOCATION:Windmill Farm Market\, 1454 E. State Route 73 \, Springboro\, OH\, 45066\, United States
END:VEVENT
BEGIN:VEVENT
DTSTART;TZID=America/Chicago:20211021T090000
DTEND;TZID=America/Chicago:20211021T173000
DTSTAMP:20260425T071625
CREATED:20220912T204959Z
LAST-MODIFIED:20220912T204959Z
UID:1488-1634806800-1634837400@www.windmillfarmmarket.com
SUMMARY:Private Hayrides
DESCRIPTION:Contact us directly for private hayrides during the week – minimum 10 children. Otherwise\, our public hayrides are on the weekends from 11am to 5pm – so come on by! 
URL:https://www.windmillfarmmarket.com/event/private-hayrides-107/
LOCATION:Windmill Farm Market\, 1454 E. State Route 73 \, Springboro\, OH\, 45066\, United States
END:VEVENT
BEGIN:VEVENT
DTSTART;TZID=America/Chicago:20211020T110000
DTEND;TZID=America/Chicago:20211020T170000
DTSTAMP:20260425T071625
CREATED:20200821T161048Z
LAST-MODIFIED:20220705T193629Z
UID:1189-1634727600-1634749200@www.windmillfarmmarket.com
SUMMARY:Private Hayrides
DESCRIPTION:Contact us directly for private hayrides during the week – minimum 10 children. Otherwise\, our public hayrides are on the weekends from 11am to 5pm – so come on by! 
URL:https://www.windmillfarmmarket.com/event/private-hayrides-68/
LOCATION:Windmill Farm Market\, 1454 E. State Route 73 \, Springboro\, OH\, 45066\, United States
END:VEVENT
BEGIN:VEVENT
DTSTART;TZID=America/Chicago:20211020T100000
DTEND;TZID=America/Chicago:20211020T180000
DTSTAMP:20260425T071625
CREATED:20200821T161035Z
LAST-MODIFIED:20200821T161035Z
UID:1160-1634724000-1634752800@www.windmillfarmmarket.com
SUMMARY:Market
DESCRIPTION:Our market is open anytime during the Spooktacular festival from 10am to 6pm!
URL:https://www.windmillfarmmarket.com/event/market-99/
LOCATION:Windmill Farm Market\, 1454 E. State Route 73 \, Springboro\, OH\, 45066\, United States
END:VEVENT
BEGIN:VEVENT
DTSTART;TZID=America/Chicago:20211020T090000
DTEND;TZID=America/Chicago:20211020T173000
DTSTAMP:20260425T071625
CREATED:20220912T204944Z
LAST-MODIFIED:20220912T204944Z
UID:1487-1634720400-1634751000@www.windmillfarmmarket.com
SUMMARY:Private Hayrides
DESCRIPTION:Contact us directly for private hayrides during the week – minimum 10 children. Otherwise\, our public hayrides are on the weekends from 11am to 5pm – so come on by! 
URL:https://www.windmillfarmmarket.com/event/private-hayrides-106/
LOCATION:Windmill Farm Market\, 1454 E. State Route 73 \, Springboro\, OH\, 45066\, United States
END:VEVENT
BEGIN:VEVENT
DTSTART;TZID=America/Chicago:20211019T110000
DTEND;TZID=America/Chicago:20211019T170000
DTSTAMP:20260425T071625
CREATED:20200821T161048Z
LAST-MODIFIED:20220705T193629Z
UID:1188-1634641200-1634662800@www.windmillfarmmarket.com
SUMMARY:Private Hayrides
DESCRIPTION:Contact us directly for private hayrides during the week – minimum 10 children. Otherwise\, our public hayrides are on the weekends from 11am to 5pm – so come on by! 
URL:https://www.windmillfarmmarket.com/event/private-hayrides-67/
LOCATION:Windmill Farm Market\, 1454 E. State Route 73 \, Springboro\, OH\, 45066\, United States
END:VEVENT
BEGIN:VEVENT
DTSTART;TZID=America/Chicago:20211019T100000
DTEND;TZID=America/Chicago:20211019T180000
DTSTAMP:20260425T071625
CREATED:20200821T161034Z
LAST-MODIFIED:20200821T161034Z
UID:1159-1634637600-1634666400@www.windmillfarmmarket.com
SUMMARY:Market
DESCRIPTION:Our market is open anytime during the Spooktacular festival from 10am to 6pm!
URL:https://www.windmillfarmmarket.com/event/market-98/
LOCATION:Windmill Farm Market\, 1454 E. State Route 73 \, Springboro\, OH\, 45066\, United States
END:VEVENT
BEGIN:VEVENT
DTSTART;TZID=America/Chicago:20211019T090000
DTEND;TZID=America/Chicago:20211019T173000
DTSTAMP:20260425T071625
CREATED:20220912T204944Z
LAST-MODIFIED:20220912T204944Z
UID:1486-1634634000-1634664600@www.windmillfarmmarket.com
SUMMARY:Private Hayrides
DESCRIPTION:Contact us directly for private hayrides during the week – minimum 10 children. Otherwise\, our public hayrides are on the weekends from 11am to 5pm – so come on by! 
URL:https://www.windmillfarmmarket.com/event/private-hayrides-105/
LOCATION:Windmill Farm Market\, 1454 E. State Route 73 \, Springboro\, OH\, 45066\, United States
END:VEVENT
BEGIN:VEVENT
DTSTART;TZID=America/Chicago:20211018T110000
DTEND;TZID=America/Chicago:20211018T170000
DTSTAMP:20260425T071625
CREATED:20200821T161048Z
LAST-MODIFIED:20200821T161048Z
UID:1187-1634554800-1634576400@www.windmillfarmmarket.com
SUMMARY:Private Hayrides
DESCRIPTION:Contact usÿdirectly for private hayrides during the week – minimum 10 children. Otherwise\, our public hayrides are on the weekends from 11am to 5pm – so come on by!
URL:https://www.windmillfarmmarket.com/event/private-hayrides-66/
LOCATION:Windmill Farm Market\, 1454 E. State Route 73 \, Springboro\, OH\, 45066\, United States
END:VEVENT
BEGIN:VEVENT
DTSTART;TZID=America/Chicago:20211018T100000
DTEND;TZID=America/Chicago:20211018T180000
DTSTAMP:20260425T071625
CREATED:20200821T161034Z
LAST-MODIFIED:20200821T161034Z
UID:1158-1634551200-1634580000@www.windmillfarmmarket.com
SUMMARY:Market
DESCRIPTION:Our market is open anytime during the Spooktacular festival from 10am to 6pm!
URL:https://www.windmillfarmmarket.com/event/market-97/
LOCATION:Windmill Farm Market\, 1454 E. State Route 73 \, Springboro\, OH\, 45066\, United States
END:VEVENT
BEGIN:VEVENT
DTSTART;TZID=America/Chicago:20211017T110000
DTEND;TZID=America/Chicago:20211017T170000
DTSTAMP:20260425T071625
CREATED:20200821T161021Z
LAST-MODIFIED:20200821T161021Z
UID:1130-1634468400-1634490000@www.windmillfarmmarket.com
SUMMARY:Public Hayrides
DESCRIPTION:Our public hayrides are on the weekends from 11am to 5pm – so come on by! Contact us directly for private hayrides during the week.
URL:https://www.windmillfarmmarket.com/event/public-hayrides-31/
LOCATION:Windmill Farm Market\, 1454 E. State Route 73 \, Springboro\, OH\, 45066\, United States
END:VEVENT
BEGIN:VEVENT
DTSTART;TZID=America/Chicago:20211017T100000
DTEND;TZID=America/Chicago:20211017T180000
DTSTAMP:20260425T071625
CREATED:20200821T161034Z
LAST-MODIFIED:20200821T161034Z
UID:1157-1634464800-1634493600@www.windmillfarmmarket.com
SUMMARY:Market
DESCRIPTION:Our market is open anytime during the Spooktacular festival from 10am to 6pm!
URL:https://www.windmillfarmmarket.com/event/market-96/
LOCATION:Windmill Farm Market\, 1454 E. State Route 73 \, Springboro\, OH\, 45066\, United States
END:VEVENT
BEGIN:VEVENT
DTSTART;TZID=America/Chicago:20211016T110000
DTEND;TZID=America/Chicago:20211016T170000
DTSTAMP:20260425T071625
CREATED:20200821T161021Z
LAST-MODIFIED:20200821T161021Z
UID:1129-1634382000-1634403600@www.windmillfarmmarket.com
SUMMARY:Public Hayrides
DESCRIPTION:Our public hayrides are on the weekends from 11am to 5pm – so come on by! Contact us directly for private hayrides during the week.
URL:https://www.windmillfarmmarket.com/event/public-hayrides-30/
LOCATION:Windmill Farm Market\, 1454 E. State Route 73 \, Springboro\, OH\, 45066\, United States
END:VEVENT
BEGIN:VEVENT
DTSTART;TZID=America/Chicago:20211016T100000
DTEND;TZID=America/Chicago:20211016T180000
DTSTAMP:20260425T071625
CREATED:20200821T161034Z
LAST-MODIFIED:20200821T161034Z
UID:1156-1634378400-1634407200@www.windmillfarmmarket.com
SUMMARY:Market
DESCRIPTION:Our market is open anytime during the Spooktacular festival from 10am to 6pm!
URL:https://www.windmillfarmmarket.com/event/market-95/
LOCATION:Windmill Farm Market\, 1454 E. State Route 73 \, Springboro\, OH\, 45066\, United States
END:VEVENT
BEGIN:VEVENT
DTSTART;TZID=America/Chicago:20211015T110000
DTEND;TZID=America/Chicago:20211015T170000
DTSTAMP:20260425T071625
CREATED:20200821T161047Z
LAST-MODIFIED:20200821T161047Z
UID:1186-1634295600-1634317200@www.windmillfarmmarket.com
SUMMARY:Private Hayrides
DESCRIPTION:Contact usÿdirectly for private hayrides during the week – minimum 10 children. Otherwise\, our public hayrides are on the weekends from 11am to 5pm – so come on by!
URL:https://www.windmillfarmmarket.com/event/private-hayrides-65/
LOCATION:Windmill Farm Market\, 1454 E. State Route 73 \, Springboro\, OH\, 45066\, United States
END:VEVENT
BEGIN:VEVENT
DTSTART;TZID=America/Chicago:20211015T100000
DTEND;TZID=America/Chicago:20211015T180000
DTSTAMP:20260425T071625
CREATED:20200821T161032Z
LAST-MODIFIED:20200821T161032Z
UID:1155-1634292000-1634320800@www.windmillfarmmarket.com
SUMMARY:Market
DESCRIPTION:Our market is open anytime during the Spooktacular festival from 10am to 6pm!
URL:https://www.windmillfarmmarket.com/event/market-94/
LOCATION:Windmill Farm Market\, 1454 E. State Route 73 \, Springboro\, OH\, 45066\, United States
END:VEVENT
BEGIN:VEVENT
DTSTART;TZID=America/Chicago:20211014T110000
DTEND;TZID=America/Chicago:20211014T170000
DTSTAMP:20260425T071625
CREATED:20200821T161046Z
LAST-MODIFIED:20200821T161046Z
UID:1185-1634209200-1634230800@www.windmillfarmmarket.com
SUMMARY:Private Hayrides
DESCRIPTION:Contact usÿdirectly for private hayrides during the week – minimum 10 children. Otherwise\, our public hayrides are on the weekends from 11am to 5pm – so come on by!
URL:https://www.windmillfarmmarket.com/event/private-hayrides-64/
LOCATION:Windmill Farm Market\, 1454 E. State Route 73 \, Springboro\, OH\, 45066\, United States
END:VEVENT
BEGIN:VEVENT
DTSTART;TZID=America/Chicago:20211014T100000
DTEND;TZID=America/Chicago:20211014T180000
DTSTAMP:20260425T071625
CREATED:20200821T161031Z
LAST-MODIFIED:20200821T161031Z
UID:1154-1634205600-1634234400@www.windmillfarmmarket.com
SUMMARY:Market
DESCRIPTION:Our market is open anytime during the Spooktacular festival from 10am to 6pm!
URL:https://www.windmillfarmmarket.com/event/market-93/
LOCATION:Windmill Farm Market\, 1454 E. State Route 73 \, Springboro\, OH\, 45066\, United States
END:VEVENT
BEGIN:VEVENT
DTSTART;TZID=America/Chicago:20211013T110000
DTEND;TZID=America/Chicago:20211013T170000
DTSTAMP:20260425T071625
CREATED:20200821T161046Z
LAST-MODIFIED:20200821T161046Z
UID:1184-1634122800-1634144400@www.windmillfarmmarket.com
SUMMARY:Private Hayrides
DESCRIPTION:Contact usÿdirectly for private hayrides during the week – minimum 10 children. Otherwise\, our public hayrides are on the weekends from 11am to 5pm – so come on by!
URL:https://www.windmillfarmmarket.com/event/private-hayrides-63/
LOCATION:Windmill Farm Market\, 1454 E. State Route 73 \, Springboro\, OH\, 45066\, United States
END:VEVENT
BEGIN:VEVENT
DTSTART;TZID=America/Chicago:20211013T100000
DTEND;TZID=America/Chicago:20211013T180000
DTSTAMP:20260425T071625
CREATED:20200821T161031Z
LAST-MODIFIED:20200821T161031Z
UID:1153-1634119200-1634148000@www.windmillfarmmarket.com
SUMMARY:Market
DESCRIPTION:Our market is open anytime during the Spooktacular festival from 10am to 6pm!
URL:https://www.windmillfarmmarket.com/event/market-92/
LOCATION:Windmill Farm Market\, 1454 E. State Route 73 \, Springboro\, OH\, 45066\, United States
END:VEVENT
BEGIN:VEVENT
DTSTART;TZID=America/Chicago:20211012T110000
DTEND;TZID=America/Chicago:20211012T170000
DTSTAMP:20260425T071625
CREATED:20200821T161045Z
LAST-MODIFIED:20200821T161045Z
UID:1183-1634036400-1634058000@www.windmillfarmmarket.com
SUMMARY:Private Hayrides
DESCRIPTION:Contact usÿdirectly for private hayrides during the week – minimum 10 children. Otherwise\, our public hayrides are on the weekends from 11am to 5pm – so come on by!
URL:https://www.windmillfarmmarket.com/event/private-hayrides-62/
LOCATION:Windmill Farm Market\, 1454 E. State Route 73 \, Springboro\, OH\, 45066\, United States
END:VEVENT
BEGIN:VEVENT
DTSTART;TZID=America/Chicago:20211012T100000
DTEND;TZID=America/Chicago:20211012T180000
DTSTAMP:20260425T071625
CREATED:20200821T161031Z
LAST-MODIFIED:20200821T161031Z
UID:1152-1634032800-1634061600@www.windmillfarmmarket.com
SUMMARY:Market
DESCRIPTION:Our market is open anytime during the Spooktacular festival from 10am to 6pm!
URL:https://www.windmillfarmmarket.com/event/market-91/
LOCATION:Windmill Farm Market\, 1454 E. State Route 73 \, Springboro\, OH\, 45066\, United States
END:VEVENT
BEGIN:VEVENT
DTSTART;TZID=America/Chicago:20211011T110000
DTEND;TZID=America/Chicago:20211011T170000
DTSTAMP:20260425T071625
CREATED:20200821T161045Z
LAST-MODIFIED:20200821T161045Z
UID:1182-1633950000-1633971600@www.windmillfarmmarket.com
SUMMARY:Private Hayrides
DESCRIPTION:Contact usÿdirectly for private hayrides during the week – minimum 10 children. Otherwise\, our public hayrides are on the weekends from 11am to 5pm – so come on by!
URL:https://www.windmillfarmmarket.com/event/private-hayrides-61/
LOCATION:Windmill Farm Market\, 1454 E. State Route 73 \, Springboro\, OH\, 45066\, United States
END:VEVENT
BEGIN:VEVENT
DTSTART;TZID=America/Chicago:20211011T100000
DTEND;TZID=America/Chicago:20211011T180000
DTSTAMP:20260425T071625
CREATED:20200821T161031Z
LAST-MODIFIED:20200821T161031Z
UID:1151-1633946400-1633975200@www.windmillfarmmarket.com
SUMMARY:Market
DESCRIPTION:Our market is open anytime during the Spooktacular festival from 10am to 6pm!
URL:https://www.windmillfarmmarket.com/event/market-90/
LOCATION:Windmill Farm Market\, 1454 E. State Route 73 \, Springboro\, OH\, 45066\, United States
END:VEVENT
BEGIN:VEVENT
DTSTART;TZID=America/Chicago:20211010T110000
DTEND;TZID=America/Chicago:20211010T170000
DTSTAMP:20260425T071625
CREATED:20200821T161020Z
LAST-MODIFIED:20200821T161020Z
UID:1128-1633863600-1633885200@www.windmillfarmmarket.com
SUMMARY:Public Hayrides
DESCRIPTION:Our public hayrides are on the weekends from 11am to 5pm – so come on by! Contact us directly for private hayrides during the week.
URL:https://www.windmillfarmmarket.com/event/public-hayrides-29/
LOCATION:Windmill Farm Market\, 1454 E. State Route 73 \, Springboro\, OH\, 45066\, United States
END:VEVENT
BEGIN:VEVENT
DTSTART;TZID=America/Chicago:20211010T100000
DTEND;TZID=America/Chicago:20211010T180000
DTSTAMP:20260425T071625
CREATED:20200821T161029Z
LAST-MODIFIED:20200821T161029Z
UID:1150-1633860000-1633888800@www.windmillfarmmarket.com
SUMMARY:Market
DESCRIPTION:Our market is open anytime during the Spooktacular festival from 10am to 6pm!
URL:https://www.windmillfarmmarket.com/event/market-89/
LOCATION:Windmill Farm Market\, 1454 E. State Route 73 \, Springboro\, OH\, 45066\, United States
END:VEVENT
BEGIN:VEVENT
DTSTART;TZID=America/Chicago:20211009T110000
DTEND;TZID=America/Chicago:20211009T170000
DTSTAMP:20260425T071625
CREATED:20200821T161020Z
LAST-MODIFIED:20200821T161020Z
UID:1127-1633777200-1633798800@www.windmillfarmmarket.com
SUMMARY:Public Hayrides
DESCRIPTION:Our public hayrides are on the weekends from 11am to 5pm – so come on by! Contact us directly for private hayrides during the week.
URL:https://www.windmillfarmmarket.com/event/public-hayrides-28/
LOCATION:Windmill Farm Market\, 1454 E. State Route 73 \, Springboro\, OH\, 45066\, United States
END:VEVENT
BEGIN:VEVENT
DTSTART;TZID=America/Chicago:20211009T100000
DTEND;TZID=America/Chicago:20211009T180000
DTSTAMP:20260425T071625
CREATED:20200821T161029Z
LAST-MODIFIED:20200821T161029Z
UID:1149-1633773600-1633802400@www.windmillfarmmarket.com
SUMMARY:Market
DESCRIPTION:Our market is open anytime during the Spooktacular festival from 10am to 6pm!
URL:https://www.windmillfarmmarket.com/event/market-88/
LOCATION:Windmill Farm Market\, 1454 E. State Route 73 \, Springboro\, OH\, 45066\, United States
END:VEVENT
BEGIN:VEVENT
DTSTART;TZID=America/Chicago:20211008T110000
DTEND;TZID=America/Chicago:20211008T170000
DTSTAMP:20260425T071625
CREATED:20200821T161045Z
LAST-MODIFIED:20200821T161045Z
UID:1181-1633690800-1633712400@www.windmillfarmmarket.com
SUMMARY:Private Hayrides
DESCRIPTION:Contact usÿdirectly for private hayrides during the week – minimum 10 children. Otherwise\, our public hayrides are on the weekends from 11am to 5pm – so come on by!
URL:https://www.windmillfarmmarket.com/event/private-hayrides-60/
LOCATION:Windmill Farm Market\, 1454 E. State Route 73 \, Springboro\, OH\, 45066\, United States
END:VEVENT
END:VCALENDAR