BEGIN:VCALENDAR
VERSION:2.0
PRODID:-//Windmill Farm Market - ECPv6.15.20//NONSGML v1.0//EN
CALSCALE:GREGORIAN
METHOD:PUBLISH
X-WR-CALNAME:Windmill Farm Market
X-ORIGINAL-URL:https://www.windmillfarmmarket.com
X-WR-CALDESC:Events for Windmill Farm Market
REFRESH-INTERVAL;VALUE=DURATION:PT1H
X-Robots-Tag:noindex
X-PUBLISHED-TTL:PT1H
BEGIN:VTIMEZONE
TZID:America/Chicago
BEGIN:DAYLIGHT
TZOFFSETFROM:-0600
TZOFFSETTO:-0500
TZNAME:CDT
DTSTART:20210314T080000
END:DAYLIGHT
BEGIN:STANDARD
TZOFFSETFROM:-0500
TZOFFSETTO:-0600
TZNAME:CST
DTSTART:20211107T070000
END:STANDARD
BEGIN:DAYLIGHT
TZOFFSETFROM:-0600
TZOFFSETTO:-0500
TZNAME:CDT
DTSTART:20220313T080000
END:DAYLIGHT
BEGIN:STANDARD
TZOFFSETFROM:-0500
TZOFFSETTO:-0600
TZNAME:CST
DTSTART:20221106T070000
END:STANDARD
BEGIN:DAYLIGHT
TZOFFSETFROM:-0600
TZOFFSETTO:-0500
TZNAME:CDT
DTSTART:20230312T080000
END:DAYLIGHT
BEGIN:STANDARD
TZOFFSETFROM:-0500
TZOFFSETTO:-0600
TZNAME:CST
DTSTART:20231105T070000
END:STANDARD
END:VTIMEZONE
BEGIN:VEVENT
DTSTART;TZID=America/Chicago:20221014T100000
DTEND;TZID=America/Chicago:20221014T180000
DTSTAMP:20260425T070950
CREATED:20220705T193111Z
LAST-MODIFIED:20220912T204844Z
UID:1334-1665741600-1665770400@www.windmillfarmmarket.com
SUMMARY:Market
DESCRIPTION:Our market is open anytime during the Spooktacular festival from 10am to 6pm!
URL:https://www.windmillfarmmarket.com/event/market-131/
LOCATION:Windmill Farm Market\, 1454 E. State Route 73 \, Springboro\, OH\, 45066\, United States
END:VEVENT
BEGIN:VEVENT
DTSTART;TZID=America/Chicago:20221014T090000
DTEND;TZID=America/Chicago:20221014T173000
DTSTAMP:20260425T070950
CREATED:20220912T204944Z
LAST-MODIFIED:20220912T204944Z
UID:1485-1665738000-1665768600@www.windmillfarmmarket.com
SUMMARY:Private Hayrides
DESCRIPTION:Contact us directly for private hayrides during the week – minimum 10 children. Otherwise\, our public hayrides are on the weekends from 11am to 5pm – so come on by! 
URL:https://www.windmillfarmmarket.com/event/private-hayrides-104/
LOCATION:Windmill Farm Market\, 1454 E. State Route 73 \, Springboro\, OH\, 45066\, United States
END:VEVENT
BEGIN:VEVENT
DTSTART;TZID=America/Chicago:20221013T100000
DTEND;TZID=America/Chicago:20221013T180000
DTSTAMP:20260425T070950
CREATED:20220705T193111Z
LAST-MODIFIED:20220912T204844Z
UID:1333-1665655200-1665684000@www.windmillfarmmarket.com
SUMMARY:Market
DESCRIPTION:Our market is open anytime during the Spooktacular festival from 10am to 6pm!
URL:https://www.windmillfarmmarket.com/event/market-130/
LOCATION:Windmill Farm Market\, 1454 E. State Route 73 \, Springboro\, OH\, 45066\, United States
END:VEVENT
BEGIN:VEVENT
DTSTART;TZID=America/Chicago:20221013T090000
DTEND;TZID=America/Chicago:20221013T173000
DTSTAMP:20260425T070950
CREATED:20220912T204944Z
LAST-MODIFIED:20220912T204944Z
UID:1484-1665651600-1665682200@www.windmillfarmmarket.com
SUMMARY:Private Hayrides
DESCRIPTION:Contact us directly for private hayrides during the week – minimum 10 children. Otherwise\, our public hayrides are on the weekends from 11am to 5pm – so come on by! 
URL:https://www.windmillfarmmarket.com/event/private-hayrides-103/
LOCATION:Windmill Farm Market\, 1454 E. State Route 73 \, Springboro\, OH\, 45066\, United States
END:VEVENT
BEGIN:VEVENT
DTSTART;TZID=America/Chicago:20221012T100000
DTEND;TZID=America/Chicago:20221012T180000
DTSTAMP:20260425T070950
CREATED:20220705T193111Z
LAST-MODIFIED:20220912T204829Z
UID:1332-1665568800-1665597600@www.windmillfarmmarket.com
SUMMARY:Market
DESCRIPTION:Our market is open anytime during the Spooktacular festival from 10am to 6pm!
URL:https://www.windmillfarmmarket.com/event/market-129/
LOCATION:Windmill Farm Market\, 1454 E. State Route 73 \, Springboro\, OH\, 45066\, United States
END:VEVENT
BEGIN:VEVENT
DTSTART;TZID=America/Chicago:20221012T090000
DTEND;TZID=America/Chicago:20221012T173000
DTSTAMP:20260425T070950
CREATED:20220912T204944Z
LAST-MODIFIED:20220912T204944Z
UID:1483-1665565200-1665595800@www.windmillfarmmarket.com
SUMMARY:Private Hayrides
DESCRIPTION:Contact us directly for private hayrides during the week – minimum 10 children. Otherwise\, our public hayrides are on the weekends from 11am to 5pm – so come on by! 
URL:https://www.windmillfarmmarket.com/event/private-hayrides-102/
LOCATION:Windmill Farm Market\, 1454 E. State Route 73 \, Springboro\, OH\, 45066\, United States
END:VEVENT
BEGIN:VEVENT
DTSTART;TZID=America/Chicago:20221009T110000
DTEND;TZID=America/Chicago:20221009T170000
DTSTAMP:20260425T070950
CREATED:20220705T192930Z
LAST-MODIFIED:20220912T204758Z
UID:1307-1665313200-1665334800@www.windmillfarmmarket.com
SUMMARY:Public Hayrides
DESCRIPTION:Our public hayrides are on the weekends from 11am to 5pm – so come on by! Contact us directly for private hayrides during the week.
URL:https://www.windmillfarmmarket.com/event/public-hayrides-41/
LOCATION:Windmill Farm Market\, 1454 E. State Route 73 \, Springboro\, OH\, 45066\, United States
END:VEVENT
BEGIN:VEVENT
DTSTART;TZID=America/Chicago:20221009T100000
DTEND;TZID=America/Chicago:20221009T180000
DTSTAMP:20260425T070950
CREATED:20220705T193056Z
LAST-MODIFIED:20220912T204829Z
UID:1329-1665309600-1665338400@www.windmillfarmmarket.com
SUMMARY:Market
DESCRIPTION:Our market is open anytime during the Spooktacular festival from 10am to 6pm!
URL:https://www.windmillfarmmarket.com/event/market-126/
LOCATION:Windmill Farm Market\, 1454 E. State Route 73 \, Springboro\, OH\, 45066\, United States
END:VEVENT
BEGIN:VEVENT
DTSTART;TZID=America/Chicago:20221008T110000
DTEND;TZID=America/Chicago:20221008T170000
DTSTAMP:20260425T070950
CREATED:20220705T192926Z
LAST-MODIFIED:20220912T204757Z
UID:1306-1665226800-1665248400@www.windmillfarmmarket.com
SUMMARY:Public Hayrides
DESCRIPTION:Our public hayrides are on the weekends from 11am to 5pm – so come on by! Contact us directly for private hayrides during the week.
URL:https://www.windmillfarmmarket.com/event/public-hayrides-40/
LOCATION:Windmill Farm Market\, 1454 E. State Route 73 \, Springboro\, OH\, 45066\, United States
END:VEVENT
BEGIN:VEVENT
DTSTART;TZID=America/Chicago:20221008T100000
DTEND;TZID=America/Chicago:20221008T180000
DTSTAMP:20260425T070950
CREATED:20220705T193056Z
LAST-MODIFIED:20220912T204829Z
UID:1328-1665223200-1665252000@www.windmillfarmmarket.com
SUMMARY:Market
DESCRIPTION:Our market is open anytime during the Spooktacular festival from 10am to 6pm!
URL:https://www.windmillfarmmarket.com/event/market-125/
LOCATION:Windmill Farm Market\, 1454 E. State Route 73 \, Springboro\, OH\, 45066\, United States
END:VEVENT
BEGIN:VEVENT
DTSTART;TZID=America/Chicago:20221007T100000
DTEND;TZID=America/Chicago:20221007T180000
DTSTAMP:20260425T070950
CREATED:20220705T193055Z
LAST-MODIFIED:20220912T204829Z
UID:1327-1665136800-1665165600@www.windmillfarmmarket.com
SUMMARY:Market
DESCRIPTION:Our market is open anytime during the Spooktacular festival from 10am to 6pm!
URL:https://www.windmillfarmmarket.com/event/market-124/
LOCATION:Windmill Farm Market\, 1454 E. State Route 73 \, Springboro\, OH\, 45066\, United States
END:VEVENT
BEGIN:VEVENT
DTSTART;TZID=America/Chicago:20221007T090000
DTEND;TZID=America/Chicago:20221007T173000
DTSTAMP:20260425T070950
CREATED:20220912T204929Z
LAST-MODIFIED:20220912T204929Z
UID:1482-1665133200-1665163800@www.windmillfarmmarket.com
SUMMARY:Private Hayrides
DESCRIPTION:Contact us directly for private hayrides during the week – minimum 10 children. Otherwise\, our public hayrides are on the weekends from 11am to 5pm – so come on by! 
URL:https://www.windmillfarmmarket.com/event/private-hayrides-101/
LOCATION:Windmill Farm Market\, 1454 E. State Route 73 \, Springboro\, OH\, 45066\, United States
END:VEVENT
BEGIN:VEVENT
DTSTART;TZID=America/Chicago:20221006T100000
DTEND;TZID=America/Chicago:20221006T180000
DTSTAMP:20260425T070950
CREATED:20220705T193016Z
LAST-MODIFIED:20220912T204829Z
UID:1326-1665050400-1665079200@www.windmillfarmmarket.com
SUMMARY:Market
DESCRIPTION:Our market is open anytime during the Spooktacular festival from 10am to 6pm!
URL:https://www.windmillfarmmarket.com/event/market-123/
LOCATION:Windmill Farm Market\, 1454 E. State Route 73 \, Springboro\, OH\, 45066\, United States
END:VEVENT
BEGIN:VEVENT
DTSTART;TZID=America/Chicago:20221006T090000
DTEND;TZID=America/Chicago:20221006T173000
DTSTAMP:20260425T070950
CREATED:20220912T204929Z
LAST-MODIFIED:20220912T204929Z
UID:1481-1665046800-1665077400@www.windmillfarmmarket.com
SUMMARY:Private Hayrides
DESCRIPTION:Contact us directly for private hayrides during the week – minimum 10 children. Otherwise\, our public hayrides are on the weekends from 11am to 5pm – so come on by! 
URL:https://www.windmillfarmmarket.com/event/private-hayrides-100/
LOCATION:Windmill Farm Market\, 1454 E. State Route 73 \, Springboro\, OH\, 45066\, United States
END:VEVENT
BEGIN:VEVENT
DTSTART;TZID=America/Chicago:20221005T100000
DTEND;TZID=America/Chicago:20221005T180000
DTSTAMP:20260425T070950
CREATED:20220705T193016Z
LAST-MODIFIED:20220912T204814Z
UID:1325-1664964000-1664992800@www.windmillfarmmarket.com
SUMMARY:Market
DESCRIPTION:Our market is open anytime during the Spooktacular festival from 10am to 6pm!
URL:https://www.windmillfarmmarket.com/event/market-122/
LOCATION:Windmill Farm Market\, 1454 E. State Route 73 \, Springboro\, OH\, 45066\, United States
END:VEVENT
BEGIN:VEVENT
DTSTART;TZID=America/Chicago:20221005T090000
DTEND;TZID=America/Chicago:20221005T173000
DTSTAMP:20260425T070950
CREATED:20220912T204929Z
LAST-MODIFIED:20220912T204929Z
UID:1480-1664960400-1664991000@www.windmillfarmmarket.com
SUMMARY:Private Hayrides
DESCRIPTION:Contact us directly for private hayrides during the week – minimum 10 children. Otherwise\, our public hayrides are on the weekends from 11am to 5pm – so come on by! 
URL:https://www.windmillfarmmarket.com/event/private-hayrides-99/
LOCATION:Windmill Farm Market\, 1454 E. State Route 73 \, Springboro\, OH\, 45066\, United States
END:VEVENT
BEGIN:VEVENT
DTSTART;TZID=America/Chicago:20221002T110000
DTEND;TZID=America/Chicago:20221002T170000
DTSTAMP:20260425T070950
CREATED:20220705T192925Z
LAST-MODIFIED:20220912T204757Z
UID:1305-1664708400-1664730000@www.windmillfarmmarket.com
SUMMARY:Public Hayrides
DESCRIPTION:Our public hayrides are on the weekends from 11am to 5pm – so come on by! Contact us directly for private hayrides during the week.
URL:https://www.windmillfarmmarket.com/event/public-hayrides-39/
LOCATION:Windmill Farm Market\, 1454 E. State Route 73 \, Springboro\, OH\, 45066\, United States
END:VEVENT
BEGIN:VEVENT
DTSTART;TZID=America/Chicago:20221002T100000
DTEND;TZID=America/Chicago:20221002T180000
DTSTAMP:20260425T070950
CREATED:20220705T193015Z
LAST-MODIFIED:20220912T204814Z
UID:1322-1664704800-1664733600@www.windmillfarmmarket.com
SUMMARY:Market
DESCRIPTION:Our market is open anytime during the Spooktacular festival from 10am to 6pm!
URL:https://www.windmillfarmmarket.com/event/market-119/
LOCATION:Windmill Farm Market\, 1454 E. State Route 73 \, Springboro\, OH\, 45066\, United States
END:VEVENT
BEGIN:VEVENT
DTSTART;TZID=America/Chicago:20221001T110000
DTEND;TZID=America/Chicago:20221001T170000
DTSTAMP:20260425T070950
CREATED:20220705T192925Z
LAST-MODIFIED:20220912T204757Z
UID:1304-1664622000-1664643600@www.windmillfarmmarket.com
SUMMARY:Public Hayrides
DESCRIPTION:Our public hayrides are on the weekends from 11am to 5pm – so come on by! Contact us directly for private hayrides during the week.
URL:https://www.windmillfarmmarket.com/event/public-hayrides-38/
LOCATION:Windmill Farm Market\, 1454 E. State Route 73 \, Springboro\, OH\, 45066\, United States
END:VEVENT
BEGIN:VEVENT
DTSTART;TZID=America/Chicago:20221001T100000
DTEND;TZID=America/Chicago:20221001T180000
DTSTAMP:20260425T070950
CREATED:20220705T193001Z
LAST-MODIFIED:20220912T204814Z
UID:1321-1664618400-1664647200@www.windmillfarmmarket.com
SUMMARY:Market
DESCRIPTION:Our market is open anytime during the Spooktacular festival from 10am to 6pm!
URL:https://www.windmillfarmmarket.com/event/market-118/
LOCATION:Windmill Farm Market\, 1454 E. State Route 73 \, Springboro\, OH\, 45066\, United States
END:VEVENT
BEGIN:VEVENT
DTSTART;TZID=America/Chicago:20220930T100000
DTEND;TZID=America/Chicago:20220930T180000
DTSTAMP:20260425T070950
CREATED:20220705T193000Z
LAST-MODIFIED:20220912T204814Z
UID:1320-1664532000-1664560800@www.windmillfarmmarket.com
SUMMARY:Market
DESCRIPTION:Our market is open anytime during the Spooktacular festival from 10am to 6pm!
URL:https://www.windmillfarmmarket.com/event/market-117/
LOCATION:Windmill Farm Market\, 1454 E. State Route 73 \, Springboro\, OH\, 45066\, United States
END:VEVENT
BEGIN:VEVENT
DTSTART;TZID=America/Chicago:20220930T090000
DTEND;TZID=America/Chicago:20220930T173000
DTSTAMP:20260425T070950
CREATED:20220912T204929Z
LAST-MODIFIED:20220912T204929Z
UID:1479-1664528400-1664559000@www.windmillfarmmarket.com
SUMMARY:Private Hayrides
DESCRIPTION:Contact us directly for private hayrides during the week – minimum 10 children. Otherwise\, our public hayrides are on the weekends from 11am to 5pm – so come on by! 
URL:https://www.windmillfarmmarket.com/event/private-hayrides-98/
LOCATION:Windmill Farm Market\, 1454 E. State Route 73 \, Springboro\, OH\, 45066\, United States
END:VEVENT
BEGIN:VEVENT
DTSTART;TZID=America/Chicago:20220929T100000
DTEND;TZID=America/Chicago:20220929T180000
DTSTAMP:20260425T070950
CREATED:20220705T193000Z
LAST-MODIFIED:20220912T204814Z
UID:1319-1664445600-1664474400@www.windmillfarmmarket.com
SUMMARY:Market
DESCRIPTION:Our market is open anytime during the Spooktacular festival from 10am to 6pm!
URL:https://www.windmillfarmmarket.com/event/market-116/
LOCATION:Windmill Farm Market\, 1454 E. State Route 73 \, Springboro\, OH\, 45066\, United States
END:VEVENT
BEGIN:VEVENT
DTSTART;TZID=America/Chicago:20220929T090000
DTEND;TZID=America/Chicago:20220929T173000
DTSTAMP:20260425T070950
CREATED:20220912T204929Z
LAST-MODIFIED:20220912T204929Z
UID:1478-1664442000-1664472600@www.windmillfarmmarket.com
SUMMARY:Private Hayrides
DESCRIPTION:Contact us directly for private hayrides during the week – minimum 10 children. Otherwise\, our public hayrides are on the weekends from 11am to 5pm – so come on by! 
URL:https://www.windmillfarmmarket.com/event/private-hayrides-97/
LOCATION:Windmill Farm Market\, 1454 E. State Route 73 \, Springboro\, OH\, 45066\, United States
END:VEVENT
BEGIN:VEVENT
DTSTART;TZID=America/Chicago:20220928T100000
DTEND;TZID=America/Chicago:20220928T180000
DTSTAMP:20260425T070950
CREATED:20220705T193000Z
LAST-MODIFIED:20220912T204759Z
UID:1318-1664359200-1664388000@www.windmillfarmmarket.com
SUMMARY:Market
DESCRIPTION:Our market is open anytime during the Spooktacular festival from 10am to 6pm!
URL:https://www.windmillfarmmarket.com/event/market-115/
LOCATION:Windmill Farm Market\, 1454 E. State Route 73 \, Springboro\, OH\, 45066\, United States
END:VEVENT
BEGIN:VEVENT
DTSTART;TZID=America/Chicago:20220928T090000
DTEND;TZID=America/Chicago:20220928T173000
DTSTAMP:20260425T070950
CREATED:20220912T204914Z
LAST-MODIFIED:20220912T204914Z
UID:1477-1664355600-1664386200@www.windmillfarmmarket.com
SUMMARY:Private Hayrides
DESCRIPTION:Contact us directly for private hayrides during the week – minimum 10 children. Otherwise\, our public hayrides are on the weekends from 11am to 5pm – so come on by! 
URL:https://www.windmillfarmmarket.com/event/private-hayrides-77/
LOCATION:Windmill Farm Market\, 1454 E. State Route 73 \, Springboro\, OH\, 45066\, United States
END:VEVENT
BEGIN:VEVENT
DTSTART;TZID=America/Chicago:20220925T110000
DTEND;TZID=America/Chicago:20220925T170000
DTSTAMP:20260425T070950
CREATED:20220705T192924Z
LAST-MODIFIED:20220912T204757Z
UID:1303-1664103600-1664125200@www.windmillfarmmarket.com
SUMMARY:Public Hayrides
DESCRIPTION:Our public hayrides are on the weekends from 11am to 5pm – so come on by! Contact us directly for private hayrides during the week.
URL:https://www.windmillfarmmarket.com/event/public-hayrides-37/
LOCATION:Windmill Farm Market\, 1454 E. State Route 73 \, Springboro\, OH\, 45066\, United States
END:VEVENT
BEGIN:VEVENT
DTSTART;TZID=America/Chicago:20220925T100000
DTEND;TZID=America/Chicago:20220925T180000
DTSTAMP:20260425T070950
CREATED:20220705T192945Z
LAST-MODIFIED:20220912T204759Z
UID:1315-1664100000-1664128800@www.windmillfarmmarket.com
SUMMARY:Market
DESCRIPTION:Our market is open anytime during the Spooktacular festival from 10am to 6pm!
URL:https://www.windmillfarmmarket.com/event/market-112/
LOCATION:Windmill Farm Market\, 1454 E. State Route 73 \, Springboro\, OH\, 45066\, United States
END:VEVENT
BEGIN:VEVENT
DTSTART;TZID=America/Chicago:20220924T110000
DTEND;TZID=America/Chicago:20220924T170000
DTSTAMP:20260425T070950
CREATED:20220705T192923Z
LAST-MODIFIED:20220912T204756Z
UID:1302-1664017200-1664038800@www.windmillfarmmarket.com
SUMMARY:Public Hayrides
DESCRIPTION:Our public hayrides are on the weekends from 11am to 5pm – so come on by! Contact us directly for private hayrides during the week.
URL:https://www.windmillfarmmarket.com/event/public-hayrides-36/
LOCATION:Windmill Farm Market\, 1454 E. State Route 73 \, Springboro\, OH\, 45066\, United States
END:VEVENT
BEGIN:VEVENT
DTSTART;TZID=America/Chicago:20220924T100000
DTEND;TZID=America/Chicago:20220924T180000
DTSTAMP:20260425T070950
CREATED:20220705T192945Z
LAST-MODIFIED:20220912T204759Z
UID:1314-1664013600-1664042400@www.windmillfarmmarket.com
SUMMARY:Market
DESCRIPTION:Our market is open anytime during the Spooktacular festival from 10am to 6pm!
URL:https://www.windmillfarmmarket.com/event/market-111/
LOCATION:Windmill Farm Market\, 1454 E. State Route 73 \, Springboro\, OH\, 45066\, United States
END:VEVENT
END:VCALENDAR