BEGIN:VCALENDAR
VERSION:2.0
PRODID:-//Windmill Farm Market - ECPv6.15.20//NONSGML v1.0//EN
CALSCALE:GREGORIAN
METHOD:PUBLISH
X-WR-CALNAME:Windmill Farm Market
X-ORIGINAL-URL:https://www.windmillfarmmarket.com
X-WR-CALDESC:Events for Windmill Farm Market
REFRESH-INTERVAL;VALUE=DURATION:PT1H
X-Robots-Tag:noindex
X-PUBLISHED-TTL:PT1H
BEGIN:VTIMEZONE
TZID:America/Chicago
BEGIN:DAYLIGHT
TZOFFSETFROM:-0600
TZOFFSETTO:-0500
TZNAME:CDT
DTSTART:20220313T080000
END:DAYLIGHT
BEGIN:STANDARD
TZOFFSETFROM:-0500
TZOFFSETTO:-0600
TZNAME:CST
DTSTART:20221106T070000
END:STANDARD
BEGIN:DAYLIGHT
TZOFFSETFROM:-0600
TZOFFSETTO:-0500
TZNAME:CDT
DTSTART:20230312T080000
END:DAYLIGHT
BEGIN:STANDARD
TZOFFSETFROM:-0500
TZOFFSETTO:-0600
TZNAME:CST
DTSTART:20231105T070000
END:STANDARD
BEGIN:DAYLIGHT
TZOFFSETFROM:-0600
TZOFFSETTO:-0500
TZNAME:CDT
DTSTART:20240310T080000
END:DAYLIGHT
BEGIN:STANDARD
TZOFFSETFROM:-0500
TZOFFSETTO:-0600
TZNAME:CST
DTSTART:20241103T070000
END:STANDARD
END:VTIMEZONE
BEGIN:VEVENT
DTSTART;TZID=America/Chicago:20231028T110000
DTEND;TZID=America/Chicago:20231028T110000
DTSTAMP:20260424T091130
CREATED:20230120T195539Z
LAST-MODIFIED:20230825T153151Z
UID:1595-1698490800-1698490800@www.windmillfarmmarket.com
SUMMARY:Public Hayrides
DESCRIPTION:Our public hayrides are on Friday from 11am – 6pm and on the weekends from 11am to 5pm – so come on by! Contact us directly for private hayrides on Wednesday and Thursday!
URL:https://www.windmillfarmmarket.com/event/public-hayrides-58/
LOCATION:Windmill Farm Market\, 1454 E. State Route 73 \, Springboro\, OH\, 45066\, United States
END:VEVENT
BEGIN:VEVENT
DTSTART;TZID=America/Chicago:20231028T100000
DTEND;TZID=America/Chicago:20231028T100000
DTSTAMP:20260424T091130
CREATED:20230120T195624Z
LAST-MODIFIED:20230825T154156Z
UID:1620-1698487200-1698487200@www.windmillfarmmarket.com
SUMMARY:Market
DESCRIPTION:Our market is open anytime during the Spooktacular festival from 10am to 6pm!
URL:https://www.windmillfarmmarket.com/event/market-171/
LOCATION:Windmill Farm Market\, 1454 E. State Route 73 \, Springboro\, OH\, 45066\, United States
END:VEVENT
BEGIN:VEVENT
DTSTART;TZID=America/Chicago:20231027T110000
DTEND;TZID=America/Chicago:20231027T110000
DTSTAMP:20260424T091130
CREATED:20230814T163632Z
LAST-MODIFIED:20230825T153151Z
UID:1721-1698404400-1698404400@www.windmillfarmmarket.com
SUMMARY:Public Hayrides
DESCRIPTION:Our public hayrides are on Friday from 11am – 6pm and on the weekends from 11am to 5pm – so come on by! Contact us directly for private hayrides on Wednesday and Thursday!
URL:https://www.windmillfarmmarket.com/event/public-hayrides-65/
LOCATION:Windmill Farm Market\, 1454 E. State Route 73 \, Springboro\, OH\, 45066\, United States
END:VEVENT
BEGIN:VEVENT
DTSTART;TZID=America/Chicago:20231027T100000
DTEND;TZID=America/Chicago:20231027T100000
DTSTAMP:20260424T091130
CREATED:20230120T195608Z
LAST-MODIFIED:20230825T154156Z
UID:1619-1698400800-1698400800@www.windmillfarmmarket.com
SUMMARY:Market
DESCRIPTION:Our market is open anytime during the Spooktacular festival from 10am to 6pm!
URL:https://www.windmillfarmmarket.com/event/market-170/
LOCATION:Windmill Farm Market\, 1454 E. State Route 73 \, Springboro\, OH\, 45066\, United States
END:VEVENT
BEGIN:VEVENT
DTSTART;TZID=America/Chicago:20231026T100000
DTEND;TZID=America/Chicago:20231026T100000
DTSTAMP:20260424T091130
CREATED:20230120T195608Z
LAST-MODIFIED:20230825T153955Z
UID:1618-1698314400-1698314400@www.windmillfarmmarket.com
SUMMARY:Market
DESCRIPTION:Our market is open anytime during the Spooktacular festival from 10am to 6pm!
URL:https://www.windmillfarmmarket.com/event/market-169/
LOCATION:Windmill Farm Market\, 1454 E. State Route 73 \, Springboro\, OH\, 45066\, United States
END:VEVENT
BEGIN:VEVENT
DTSTART;TZID=America/Chicago:20231026T090000
DTEND;TZID=America/Chicago:20231026T090000
DTSTAMP:20260424T091130
CREATED:20230120T195655Z
LAST-MODIFIED:20230825T154558Z
UID:1636-1698310800-1698310800@www.windmillfarmmarket.com
SUMMARY:Private Hayrides
DESCRIPTION:Contact us directly for private hayrides on Wednesday and Thursday – minimum 10 children. Otherwise\, checkout our public hayrides Friday through Sunday!
URL:https://www.windmillfarmmarket.com/event/private-hayrides-127/
LOCATION:Windmill Farm Market\, 1454 E. State Route 73 \, Springboro\, OH\, 45066\, United States
END:VEVENT
BEGIN:VEVENT
DTSTART;TZID=America/Chicago:20231025T100000
DTEND;TZID=America/Chicago:20231025T100000
DTSTAMP:20260424T091130
CREATED:20230120T195608Z
LAST-MODIFIED:20230825T153955Z
UID:1617-1698228000-1698228000@www.windmillfarmmarket.com
SUMMARY:Market
DESCRIPTION:Our market is open anytime during the Spooktacular festival from 10am to 6pm!
URL:https://www.windmillfarmmarket.com/event/market-168/
LOCATION:Windmill Farm Market\, 1454 E. State Route 73 \, Springboro\, OH\, 45066\, United States
END:VEVENT
BEGIN:VEVENT
DTSTART;TZID=America/Chicago:20231025T090000
DTEND;TZID=America/Chicago:20231025T090000
DTSTAMP:20260424T091130
CREATED:20230120T195652Z
LAST-MODIFIED:20230825T154558Z
UID:1635-1698224400-1698224400@www.windmillfarmmarket.com
SUMMARY:Private Hayrides
DESCRIPTION:Contact us directly for private hayrides on Wednesday and Thursday – minimum 10 children. Otherwise\, checkout our public hayrides Friday through Sunday!
URL:https://www.windmillfarmmarket.com/event/private-hayrides-126/
LOCATION:Windmill Farm Market\, 1454 E. State Route 73 \, Springboro\, OH\, 45066\, United States
END:VEVENT
BEGIN:VEVENT
DTSTART;TZID=America/Chicago:20231022T110000
DTEND;TZID=America/Chicago:20231022T110000
DTSTAMP:20260424T091130
CREATED:20230120T195536Z
LAST-MODIFIED:20230825T152951Z
UID:1594-1697972400-1697972400@www.windmillfarmmarket.com
SUMMARY:Public Hayrides
DESCRIPTION:Our public hayrides are on Friday from 11am – 6pm and on the weekends from 11am to 5pm – so come on by! Contact us directly for private hayrides on Wednesday and Thursday!
URL:https://www.windmillfarmmarket.com/event/public-hayrides-57/
LOCATION:Windmill Farm Market\, 1454 E. State Route 73 \, Springboro\, OH\, 45066\, United States
END:VEVENT
BEGIN:VEVENT
DTSTART;TZID=America/Chicago:20231022T100000
DTEND;TZID=America/Chicago:20231022T100000
DTSTAMP:20260424T091130
CREATED:20230120T195607Z
LAST-MODIFIED:20230825T153955Z
UID:1616-1697968800-1697968800@www.windmillfarmmarket.com
SUMMARY:Market
DESCRIPTION:Our market is open anytime during the Spooktacular festival from 10am to 6pm!
URL:https://www.windmillfarmmarket.com/event/market-167/
LOCATION:Windmill Farm Market\, 1454 E. State Route 73 \, Springboro\, OH\, 45066\, United States
END:VEVENT
BEGIN:VEVENT
DTSTART;TZID=America/Chicago:20231021T110000
DTEND;TZID=America/Chicago:20231021T110000
DTSTAMP:20260424T091130
CREATED:20230120T195536Z
LAST-MODIFIED:20230825T152951Z
UID:1593-1697886000-1697886000@www.windmillfarmmarket.com
SUMMARY:Public Hayrides
DESCRIPTION:Our public hayrides are on Friday from 11am – 6pm and on the weekends from 11am to 5pm – so come on by! Contact us directly for private hayrides on Wednesday and Thursday!
URL:https://www.windmillfarmmarket.com/event/public-hayrides-56/
LOCATION:Windmill Farm Market\, 1454 E. State Route 73 \, Springboro\, OH\, 45066\, United States
END:VEVENT
BEGIN:VEVENT
DTSTART;TZID=America/Chicago:20231021T100000
DTEND;TZID=America/Chicago:20231021T100000
DTSTAMP:20260424T091130
CREATED:20230120T195607Z
LAST-MODIFIED:20230825T153955Z
UID:1615-1697882400-1697882400@www.windmillfarmmarket.com
SUMMARY:Market
DESCRIPTION:Our market is open anytime during the Spooktacular festival from 10am to 6pm!
URL:https://www.windmillfarmmarket.com/event/market-166/
LOCATION:Windmill Farm Market\, 1454 E. State Route 73 \, Springboro\, OH\, 45066\, United States
END:VEVENT
BEGIN:VEVENT
DTSTART;TZID=America/Chicago:20231020T110000
DTEND;TZID=America/Chicago:20231020T110000
DTSTAMP:20260424T091130
CREATED:20230814T163617Z
LAST-MODIFIED:20230825T152951Z
UID:1720-1697799600-1697799600@www.windmillfarmmarket.com
SUMMARY:Public Hayrides
DESCRIPTION:Our public hayrides are on Friday from 11am – 6pm and on the weekends from 11am to 5pm – so come on by! Contact us directly for private hayrides on Wednesday and Thursday!
URL:https://www.windmillfarmmarket.com/event/public-hayrides-64/
LOCATION:Windmill Farm Market\, 1454 E. State Route 73 \, Springboro\, OH\, 45066\, United States
END:VEVENT
BEGIN:VEVENT
DTSTART;TZID=America/Chicago:20231020T100000
DTEND;TZID=America/Chicago:20231020T100000
DTSTAMP:20260424T091131
CREATED:20230120T195551Z
LAST-MODIFIED:20230825T153955Z
UID:1614-1697796000-1697796000@www.windmillfarmmarket.com
SUMMARY:Market
DESCRIPTION:Our market is open anytime during the Spooktacular festival from 10am to 6pm!
URL:https://www.windmillfarmmarket.com/event/market-165/
LOCATION:Windmill Farm Market\, 1454 E. State Route 73 \, Springboro\, OH\, 45066\, United States
END:VEVENT
BEGIN:VEVENT
DTSTART;TZID=America/Chicago:20231019T100000
DTEND;TZID=America/Chicago:20231019T100000
DTSTAMP:20260424T091131
CREATED:20230120T195551Z
LAST-MODIFIED:20230825T153754Z
UID:1613-1697709600-1697709600@www.windmillfarmmarket.com
SUMMARY:Market
DESCRIPTION:Our market is open anytime during the Spooktacular festival from 10am to 6pm!
URL:https://www.windmillfarmmarket.com/event/market-164/
LOCATION:Windmill Farm Market\, 1454 E. State Route 73 \, Springboro\, OH\, 45066\, United States
END:VEVENT
BEGIN:VEVENT
DTSTART;TZID=America/Chicago:20231019T090000
DTEND;TZID=America/Chicago:20231019T090000
DTSTAMP:20260424T091131
CREATED:20230120T195652Z
LAST-MODIFIED:20230825T154558Z
UID:1633-1697706000-1697706000@www.windmillfarmmarket.com
SUMMARY:Private Hayrides
DESCRIPTION:Contact us directly for private hayrides on Wednesday and Thursday – minimum 10 children. Otherwise\, checkout our public hayrides Friday through Sunday!
URL:https://www.windmillfarmmarket.com/event/private-hayrides-124/
LOCATION:Windmill Farm Market\, 1454 E. State Route 73 \, Springboro\, OH\, 45066\, United States
END:VEVENT
BEGIN:VEVENT
DTSTART;TZID=America/Chicago:20231018T100000
DTEND;TZID=America/Chicago:20231018T100000
DTSTAMP:20260424T091131
CREATED:20230120T195551Z
LAST-MODIFIED:20230825T153754Z
UID:1612-1697623200-1697623200@www.windmillfarmmarket.com
SUMMARY:Market
DESCRIPTION:Our market is open anytime during the Spooktacular festival from 10am to 6pm!
URL:https://www.windmillfarmmarket.com/event/market-163/
LOCATION:Windmill Farm Market\, 1454 E. State Route 73 \, Springboro\, OH\, 45066\, United States
END:VEVENT
BEGIN:VEVENT
DTSTART;TZID=America/Chicago:20231018T090000
DTEND;TZID=America/Chicago:20231018T090000
DTSTAMP:20260424T091131
CREATED:20230120T195652Z
LAST-MODIFIED:20230825T154357Z
UID:1632-1697619600-1697619600@www.windmillfarmmarket.com
SUMMARY:Private Hayrides
DESCRIPTION:Contact us directly for private hayrides on Wednesday and Thursday – minimum 10 children. Otherwise\, checkout our public hayrides Friday through Sunday!
URL:https://www.windmillfarmmarket.com/event/private-hayrides-123/
LOCATION:Windmill Farm Market\, 1454 E. State Route 73 \, Springboro\, OH\, 45066\, United States
END:VEVENT
BEGIN:VEVENT
DTSTART;TZID=America/Chicago:20231015T110000
DTEND;TZID=America/Chicago:20231015T110000
DTSTAMP:20260424T091131
CREATED:20230120T195536Z
LAST-MODIFIED:20230825T152951Z
UID:1592-1697367600-1697367600@www.windmillfarmmarket.com
SUMMARY:Public Hayrides
DESCRIPTION:Our public hayrides are on Friday from 11am – 6pm and on the weekends from 11am to 5pm – so come on by! Contact us directly for private hayrides on Wednesday and Thursday!
URL:https://www.windmillfarmmarket.com/event/public-hayrides-55/
LOCATION:Windmill Farm Market\, 1454 E. State Route 73 \, Springboro\, OH\, 45066\, United States
END:VEVENT
BEGIN:VEVENT
DTSTART;TZID=America/Chicago:20231015T100000
DTEND;TZID=America/Chicago:20231015T100000
DTSTAMP:20260424T091131
CREATED:20230120T195551Z
LAST-MODIFIED:20230825T153754Z
UID:1611-1697364000-1697364000@www.windmillfarmmarket.com
SUMMARY:Market
DESCRIPTION:Our market is open anytime during the Spooktacular festival from 10am to 6pm!
URL:https://www.windmillfarmmarket.com/event/market-162/
LOCATION:Windmill Farm Market\, 1454 E. State Route 73 \, Springboro\, OH\, 45066\, United States
END:VEVENT
BEGIN:VEVENT
DTSTART;TZID=America/Chicago:20231014T110000
DTEND;TZID=America/Chicago:20231014T110000
DTSTAMP:20260424T091131
CREATED:20230120T195536Z
LAST-MODIFIED:20230825T152951Z
UID:1591-1697281200-1697281200@www.windmillfarmmarket.com
SUMMARY:Public Hayrides
DESCRIPTION:Our public hayrides are on Friday from 11am – 6pm and on the weekends from 11am to 5pm – so come on by! Contact us directly for private hayrides on Wednesday and Thursday!
URL:https://www.windmillfarmmarket.com/event/public-hayrides-54/
LOCATION:Windmill Farm Market\, 1454 E. State Route 73 \, Springboro\, OH\, 45066\, United States
END:VEVENT
BEGIN:VEVENT
DTSTART;TZID=America/Chicago:20231014T100000
DTEND;TZID=America/Chicago:20231014T100000
DTSTAMP:20260424T091131
CREATED:20230120T195551Z
LAST-MODIFIED:20230825T153754Z
UID:1610-1697277600-1697277600@www.windmillfarmmarket.com
SUMMARY:Market
DESCRIPTION:Our market is open anytime during the Spooktacular festival from 10am to 6pm!
URL:https://www.windmillfarmmarket.com/event/market-161/
LOCATION:Windmill Farm Market\, 1454 E. State Route 73 \, Springboro\, OH\, 45066\, United States
END:VEVENT
BEGIN:VEVENT
DTSTART;TZID=America/Chicago:20231013T110000
DTEND;TZID=America/Chicago:20231013T110000
DTSTAMP:20260424T091131
CREATED:20230814T163617Z
LAST-MODIFIED:20230825T152951Z
UID:1719-1697194800-1697194800@www.windmillfarmmarket.com
SUMMARY:Public Hayrides
DESCRIPTION:Our public hayrides are on Friday from 11am – 6pm and on the weekends from 11am to 5pm – so come on by! Contact us directly for private hayrides on Wednesday and Thursday!
URL:https://www.windmillfarmmarket.com/event/public-hayrides-63/
LOCATION:Windmill Farm Market\, 1454 E. State Route 73 \, Springboro\, OH\, 45066\, United States
END:VEVENT
BEGIN:VEVENT
DTSTART;TZID=America/Chicago:20231013T100000
DTEND;TZID=America/Chicago:20231013T100000
DTSTAMP:20260424T091131
CREATED:20230120T195546Z
LAST-MODIFIED:20230825T153754Z
UID:1609-1697191200-1697191200@www.windmillfarmmarket.com
SUMMARY:Market
DESCRIPTION:Our market is open anytime during the Spooktacular festival from 10am to 6pm!
URL:https://www.windmillfarmmarket.com/event/market-160/
LOCATION:Windmill Farm Market\, 1454 E. State Route 73 \, Springboro\, OH\, 45066\, United States
END:VEVENT
BEGIN:VEVENT
DTSTART;TZID=America/Chicago:20231012T100000
DTEND;TZID=America/Chicago:20231012T100000
DTSTAMP:20260424T091131
CREATED:20230120T195546Z
LAST-MODIFIED:20230825T153553Z
UID:1608-1697104800-1697104800@www.windmillfarmmarket.com
SUMMARY:Market
DESCRIPTION:Our market is open anytime during the Spooktacular festival from 10am to 6pm!
URL:https://www.windmillfarmmarket.com/event/market-159/
LOCATION:Windmill Farm Market\, 1454 E. State Route 73 \, Springboro\, OH\, 45066\, United States
END:VEVENT
BEGIN:VEVENT
DTSTART;TZID=America/Chicago:20231012T090000
DTEND;TZID=America/Chicago:20231012T090000
DTSTAMP:20260424T091131
CREATED:20230120T195640Z
LAST-MODIFIED:20230825T154357Z
UID:1630-1697101200-1697101200@www.windmillfarmmarket.com
SUMMARY:Private Hayrides
DESCRIPTION:Contact us directly for private hayrides on Wednesday and Thursday – minimum 10 children. Otherwise\, checkout our public hayrides Friday through Sunday!
URL:https://www.windmillfarmmarket.com/event/private-hayrides-121/
LOCATION:Windmill Farm Market\, 1454 E. State Route 73 \, Springboro\, OH\, 45066\, United States
END:VEVENT
BEGIN:VEVENT
DTSTART;TZID=America/Chicago:20231011T100000
DTEND;TZID=America/Chicago:20231011T100000
DTSTAMP:20260424T091131
CREATED:20230120T195546Z
LAST-MODIFIED:20230825T153553Z
UID:1607-1697018400-1697018400@www.windmillfarmmarket.com
SUMMARY:Market
DESCRIPTION:Our market is open anytime during the Spooktacular festival from 10am to 6pm!
URL:https://www.windmillfarmmarket.com/event/market-158/
LOCATION:Windmill Farm Market\, 1454 E. State Route 73 \, Springboro\, OH\, 45066\, United States
END:VEVENT
BEGIN:VEVENT
DTSTART;TZID=America/Chicago:20231011T090000
DTEND;TZID=America/Chicago:20231011T090000
DTSTAMP:20260424T091131
CREATED:20230120T195640Z
LAST-MODIFIED:20230825T154357Z
UID:1629-1697014800-1697014800@www.windmillfarmmarket.com
SUMMARY:Private Hayrides
DESCRIPTION:Contact us directly for private hayrides on Wednesday and Thursday – minimum 10 children. Otherwise\, checkout our public hayrides Friday through Sunday!
URL:https://www.windmillfarmmarket.com/event/private-hayrides-120/
LOCATION:Windmill Farm Market\, 1454 E. State Route 73 \, Springboro\, OH\, 45066\, United States
END:VEVENT
BEGIN:VEVENT
DTSTART;TZID=America/Chicago:20231008T110000
DTEND;TZID=America/Chicago:20231008T110000
DTSTAMP:20260424T091131
CREATED:20230120T195536Z
LAST-MODIFIED:20230825T152950Z
UID:1590-1696762800-1696762800@www.windmillfarmmarket.com
SUMMARY:Public Hayrides
DESCRIPTION:Our public hayrides are on Friday from 11am – 6pm and on the weekends from 11am to 5pm – so come on by! Contact us directly for private hayrides on Wednesday and Thursday!
URL:https://www.windmillfarmmarket.com/event/public-hayrides-53/
LOCATION:Windmill Farm Market\, 1454 E. State Route 73 \, Springboro\, OH\, 45066\, United States
END:VEVENT
BEGIN:VEVENT
DTSTART;TZID=America/Chicago:20231008T100000
DTEND;TZID=America/Chicago:20231008T100000
DTSTAMP:20260424T091131
CREATED:20230120T195545Z
LAST-MODIFIED:20230825T153553Z
UID:1606-1696759200-1696759200@www.windmillfarmmarket.com
SUMMARY:Market
DESCRIPTION:Our market is open anytime during the Spooktacular festival from 10am to 6pm!
URL:https://www.windmillfarmmarket.com/event/market-157/
LOCATION:Windmill Farm Market\, 1454 E. State Route 73 \, Springboro\, OH\, 45066\, United States
END:VEVENT
END:VCALENDAR