BEGIN:VCALENDAR
VERSION:2.0
PRODID:-//Windmill Farm Market - ECPv6.15.20//NONSGML v1.0//EN
CALSCALE:GREGORIAN
METHOD:PUBLISH
X-ORIGINAL-URL:https://www.windmillfarmmarket.com
X-WR-CALDESC:Events for Windmill Farm Market
REFRESH-INTERVAL;VALUE=DURATION:PT1H
X-Robots-Tag:noindex
X-PUBLISHED-TTL:PT1H
BEGIN:VTIMEZONE
TZID:America/Chicago
BEGIN:DAYLIGHT
TZOFFSETFROM:-0600
TZOFFSETTO:-0500
TZNAME:CDT
DTSTART:20250309T080000
END:DAYLIGHT
BEGIN:STANDARD
TZOFFSETFROM:-0500
TZOFFSETTO:-0600
TZNAME:CST
DTSTART:20251102T070000
END:STANDARD
BEGIN:DAYLIGHT
TZOFFSETFROM:-0600
TZOFFSETTO:-0500
TZNAME:CDT
DTSTART:20260308T080000
END:DAYLIGHT
BEGIN:STANDARD
TZOFFSETFROM:-0500
TZOFFSETTO:-0600
TZNAME:CST
DTSTART:20261101T070000
END:STANDARD
BEGIN:DAYLIGHT
TZOFFSETFROM:-0600
TZOFFSETTO:-0500
TZNAME:CDT
DTSTART:20270314T080000
END:DAYLIGHT
BEGIN:STANDARD
TZOFFSETFROM:-0500
TZOFFSETTO:-0600
TZNAME:CST
DTSTART:20271107T070000
END:STANDARD
END:VTIMEZONE
BEGIN:VEVENT
DTSTART;TZID=America/Chicago:20260926T100000
DTEND;TZID=America/Chicago:20260926T100000
DTSTAMP:20260423T192236
CREATED:20260403T133405Z
LAST-MODIFIED:20260403T133405Z
UID:2111-1790416800-1790416800@www.windmillfarmmarket.com
SUMMARY:Market
DESCRIPTION:Our market is open anytime during the Spooktacular festival from 10am to 6pm!
URL:https://www.windmillfarmmarket.com/event/market-227/
LOCATION:Windmill Farm Market\, 1454 E. State Route 73 \, Springboro\, OH\, 45066\, United States
END:VEVENT
BEGIN:VEVENT
DTSTART;TZID=America/Chicago:20260926T110000
DTEND;TZID=America/Chicago:20260926T110000
DTSTAMP:20260423T192236
CREATED:20260403T133331Z
LAST-MODIFIED:20260403T133331Z
UID:2095-1790420400-1790420400@www.windmillfarmmarket.com
SUMMARY:Public Hayrides
DESCRIPTION:Our public hayrides are on Friday from 11am – 6pm and on the weekends from 11am to 5pm – so come on by! Contact us directly for private hayrides on Wednesday and Thursday!
URL:https://www.windmillfarmmarket.com/event/public-hayrides-100/
LOCATION:Windmill Farm Market\, 1454 E. State Route 73 \, Springboro\, OH\, 45066\, United States
END:VEVENT
BEGIN:VEVENT
DTSTART;TZID=America/Chicago:20260927T100000
DTEND;TZID=America/Chicago:20260927T100000
DTSTAMP:20260423T192236
CREATED:20260403T133405Z
LAST-MODIFIED:20260403T133405Z
UID:2112-1790503200-1790503200@www.windmillfarmmarket.com
SUMMARY:Market
DESCRIPTION:Our market is open anytime during the Spooktacular festival from 10am to 6pm!
URL:https://www.windmillfarmmarket.com/event/market-228/
LOCATION:Windmill Farm Market\, 1454 E. State Route 73 \, Springboro\, OH\, 45066\, United States
END:VEVENT
BEGIN:VEVENT
DTSTART;TZID=America/Chicago:20260927T110000
DTEND;TZID=America/Chicago:20260927T110000
DTSTAMP:20260423T192236
CREATED:20260403T133331Z
LAST-MODIFIED:20260403T133331Z
UID:2096-1790506800-1790506800@www.windmillfarmmarket.com
SUMMARY:Public Hayrides
DESCRIPTION:Our public hayrides are on Friday from 11am – 6pm and on the weekends from 11am to 5pm – so come on by! Contact us directly for private hayrides on Wednesday and Thursday!
URL:https://www.windmillfarmmarket.com/event/public-hayrides-101/
LOCATION:Windmill Farm Market\, 1454 E. State Route 73 \, Springboro\, OH\, 45066\, United States
END:VEVENT
BEGIN:VEVENT
DTSTART;TZID=America/Chicago:20260930T090000
DTEND;TZID=America/Chicago:20260930T090000
DTSTAMP:20260423T192236
CREATED:20260403T133521Z
LAST-MODIFIED:20260403T133521Z
UID:2137-1790758800-1790758800@www.windmillfarmmarket.com
SUMMARY:Private Hayrides
DESCRIPTION:Contact us directly for private hayrides on Wednesday and Thursday – minimum 10 children. Otherwise\, checkout our public hayrides Friday through Sunday!
URL:https://www.windmillfarmmarket.com/event/private-hayrides-149/
LOCATION:Windmill Farm Market\, 1454 E. State Route 73 \, Springboro\, OH\, 45066\, United States
END:VEVENT
BEGIN:VEVENT
DTSTART;TZID=America/Chicago:20260930T100000
DTEND;TZID=America/Chicago:20260930T100000
DTSTAMP:20260423T192236
CREATED:20260403T133405Z
LAST-MODIFIED:20260403T133405Z
UID:2113-1790762400-1790762400@www.windmillfarmmarket.com
SUMMARY:Market
DESCRIPTION:Our market is open anytime during the Spooktacular festival from 10am to 6pm!
URL:https://www.windmillfarmmarket.com/event/market-229/
LOCATION:Windmill Farm Market\, 1454 E. State Route 73 \, Springboro\, OH\, 45066\, United States
END:VEVENT
BEGIN:VEVENT
DTSTART;TZID=America/Chicago:20261001T090000
DTEND;TZID=America/Chicago:20261001T090000
DTSTAMP:20260423T192236
CREATED:20260403T133522Z
LAST-MODIFIED:20260403T133522Z
UID:2138-1790845200-1790845200@www.windmillfarmmarket.com
SUMMARY:Private Hayrides
DESCRIPTION:Contact us directly for private hayrides on Wednesday and Thursday – minimum 10 children. Otherwise\, checkout our public hayrides Friday through Sunday!
URL:https://www.windmillfarmmarket.com/event/private-hayrides-150/
LOCATION:Windmill Farm Market\, 1454 E. State Route 73 \, Springboro\, OH\, 45066\, United States
END:VEVENT
BEGIN:VEVENT
DTSTART;TZID=America/Chicago:20261001T100000
DTEND;TZID=America/Chicago:20261001T100000
DTSTAMP:20260423T192236
CREATED:20260403T133405Z
LAST-MODIFIED:20260403T133405Z
UID:2114-1790848800-1790848800@www.windmillfarmmarket.com
SUMMARY:Market
DESCRIPTION:Our market is open anytime during the Spooktacular festival from 10am to 6pm!
URL:https://www.windmillfarmmarket.com/event/market-230/
LOCATION:Windmill Farm Market\, 1454 E. State Route 73 \, Springboro\, OH\, 45066\, United States
END:VEVENT
BEGIN:VEVENT
DTSTART;TZID=America/Chicago:20261002T100000
DTEND;TZID=America/Chicago:20261002T100000
DTSTAMP:20260423T192236
CREATED:20260403T133421Z
LAST-MODIFIED:20260403T133421Z
UID:2115-1790935200-1790935200@www.windmillfarmmarket.com
SUMMARY:Market
DESCRIPTION:Our market is open anytime during the Spooktacular festival from 10am to 6pm!
URL:https://www.windmillfarmmarket.com/event/market-231/
LOCATION:Windmill Farm Market\, 1454 E. State Route 73 \, Springboro\, OH\, 45066\, United States
END:VEVENT
BEGIN:VEVENT
DTSTART;TZID=America/Chicago:20261002T110000
DTEND;TZID=America/Chicago:20261002T110000
DTSTAMP:20260423T192236
CREATED:20260403T133331Z
LAST-MODIFIED:20260403T133331Z
UID:2097-1790938800-1790938800@www.windmillfarmmarket.com
SUMMARY:Public Hayrides
DESCRIPTION:Our public hayrides are on Friday from 11am – 6pm and on the weekends from 11am to 5pm – so come on by! Contact us directly for private hayrides on Wednesday and Thursday!
URL:https://www.windmillfarmmarket.com/event/public-hayrides-102/
LOCATION:Windmill Farm Market\, 1454 E. State Route 73 \, Springboro\, OH\, 45066\, United States
END:VEVENT
BEGIN:VEVENT
DTSTART;TZID=America/Chicago:20261003T100000
DTEND;TZID=America/Chicago:20261003T100000
DTSTAMP:20260423T192236
CREATED:20260403T133421Z
LAST-MODIFIED:20260403T133421Z
UID:2116-1791021600-1791021600@www.windmillfarmmarket.com
SUMMARY:Market
DESCRIPTION:Our market is open anytime during the Spooktacular festival from 10am to 6pm!
URL:https://www.windmillfarmmarket.com/event/market-232/
LOCATION:Windmill Farm Market\, 1454 E. State Route 73 \, Springboro\, OH\, 45066\, United States
END:VEVENT
BEGIN:VEVENT
DTSTART;TZID=America/Chicago:20261003T110000
DTEND;TZID=America/Chicago:20261003T110000
DTSTAMP:20260423T192236
CREATED:20260403T133332Z
LAST-MODIFIED:20260403T133332Z
UID:2098-1791025200-1791025200@www.windmillfarmmarket.com
SUMMARY:Public Hayrides
DESCRIPTION:Our public hayrides are on Friday from 11am – 6pm and on the weekends from 11am to 5pm – so come on by! Contact us directly for private hayrides on Wednesday and Thursday!
URL:https://www.windmillfarmmarket.com/event/public-hayrides-103/
LOCATION:Windmill Farm Market\, 1454 E. State Route 73 \, Springboro\, OH\, 45066\, United States
END:VEVENT
BEGIN:VEVENT
DTSTART;TZID=America/Chicago:20261004T100000
DTEND;TZID=America/Chicago:20261004T100000
DTSTAMP:20260423T192236
CREATED:20260403T133421Z
LAST-MODIFIED:20260403T133421Z
UID:2117-1791108000-1791108000@www.windmillfarmmarket.com
SUMMARY:Market
DESCRIPTION:Our market is open anytime during the Spooktacular festival from 10am to 6pm!
URL:https://www.windmillfarmmarket.com/event/market-233/
LOCATION:Windmill Farm Market\, 1454 E. State Route 73 \, Springboro\, OH\, 45066\, United States
END:VEVENT
BEGIN:VEVENT
DTSTART;TZID=America/Chicago:20261004T110000
DTEND;TZID=America/Chicago:20261004T110000
DTSTAMP:20260423T192236
CREATED:20260403T133332Z
LAST-MODIFIED:20260403T133332Z
UID:2099-1791111600-1791111600@www.windmillfarmmarket.com
SUMMARY:Public Hayrides
DESCRIPTION:Our public hayrides are on Friday from 11am – 6pm and on the weekends from 11am to 5pm – so come on by! Contact us directly for private hayrides on Wednesday and Thursday!
URL:https://www.windmillfarmmarket.com/event/public-hayrides-104/
LOCATION:Windmill Farm Market\, 1454 E. State Route 73 \, Springboro\, OH\, 45066\, United States
END:VEVENT
BEGIN:VEVENT
DTSTART;TZID=America/Chicago:20261007T090000
DTEND;TZID=America/Chicago:20261007T090000
DTSTAMP:20260423T192236
CREATED:20260403T133522Z
LAST-MODIFIED:20260403T133522Z
UID:2139-1791363600-1791363600@www.windmillfarmmarket.com
SUMMARY:Private Hayrides
DESCRIPTION:Contact us directly for private hayrides on Wednesday and Thursday – minimum 10 children. Otherwise\, checkout our public hayrides Friday through Sunday!
URL:https://www.windmillfarmmarket.com/event/private-hayrides-151/
LOCATION:Windmill Farm Market\, 1454 E. State Route 73 \, Springboro\, OH\, 45066\, United States
END:VEVENT
BEGIN:VEVENT
DTSTART;TZID=America/Chicago:20261007T100000
DTEND;TZID=America/Chicago:20261007T100000
DTSTAMP:20260423T192236
CREATED:20260403T133421Z
LAST-MODIFIED:20260403T133421Z
UID:2118-1791367200-1791367200@www.windmillfarmmarket.com
SUMMARY:Market
DESCRIPTION:Our market is open anytime during the Spooktacular festival from 10am to 6pm!
URL:https://www.windmillfarmmarket.com/event/market-234/
LOCATION:Windmill Farm Market\, 1454 E. State Route 73 \, Springboro\, OH\, 45066\, United States
END:VEVENT
BEGIN:VEVENT
DTSTART;TZID=America/Chicago:20261008T090000
DTEND;TZID=America/Chicago:20261008T090000
DTSTAMP:20260423T192236
CREATED:20260403T133629Z
LAST-MODIFIED:20260403T133629Z
UID:2140-1791450000-1791450000@www.windmillfarmmarket.com
SUMMARY:Private Hayrides
DESCRIPTION:Contact us directly for private hayrides on Wednesday and Thursday – minimum 10 children. Otherwise\, checkout our public hayrides Friday through Sunday!
URL:https://www.windmillfarmmarket.com/event/private-hayrides-152/
LOCATION:Windmill Farm Market\, 1454 E. State Route 73 \, Springboro\, OH\, 45066\, United States
END:VEVENT
BEGIN:VEVENT
DTSTART;TZID=America/Chicago:20261008T100000
DTEND;TZID=America/Chicago:20261008T100000
DTSTAMP:20260423T192236
CREATED:20260403T133422Z
LAST-MODIFIED:20260403T133422Z
UID:2119-1791453600-1791453600@www.windmillfarmmarket.com
SUMMARY:Market
DESCRIPTION:Our market is open anytime during the Spooktacular festival from 10am to 6pm!
URL:https://www.windmillfarmmarket.com/event/market-235/
LOCATION:Windmill Farm Market\, 1454 E. State Route 73 \, Springboro\, OH\, 45066\, United States
END:VEVENT
BEGIN:VEVENT
DTSTART;TZID=America/Chicago:20261009T100000
DTEND;TZID=America/Chicago:20261009T100000
DTSTAMP:20260423T192236
CREATED:20260403T133436Z
LAST-MODIFIED:20260403T133436Z
UID:2120-1791540000-1791540000@www.windmillfarmmarket.com
SUMMARY:Market
DESCRIPTION:Our market is open anytime during the Spooktacular festival from 10am to 6pm!
URL:https://www.windmillfarmmarket.com/event/market-236/
LOCATION:Windmill Farm Market\, 1454 E. State Route 73 \, Springboro\, OH\, 45066\, United States
END:VEVENT
BEGIN:VEVENT
DTSTART;TZID=America/Chicago:20261009T110000
DTEND;TZID=America/Chicago:20261009T110000
DTSTAMP:20260423T192236
CREATED:20260403T133333Z
LAST-MODIFIED:20260403T133333Z
UID:2100-1791543600-1791543600@www.windmillfarmmarket.com
SUMMARY:Public Hayrides
DESCRIPTION:Our public hayrides are on Friday from 11am – 6pm and on the weekends from 11am to 5pm – so come on by! Contact us directly for private hayrides on Wednesday and Thursday!
URL:https://www.windmillfarmmarket.com/event/public-hayrides-105/
LOCATION:Windmill Farm Market\, 1454 E. State Route 73 \, Springboro\, OH\, 45066\, United States
END:VEVENT
BEGIN:VEVENT
DTSTART;TZID=America/Chicago:20261010T100000
DTEND;TZID=America/Chicago:20261010T100000
DTSTAMP:20260423T192236
CREATED:20260403T133436Z
LAST-MODIFIED:20260403T133436Z
UID:2121-1791626400-1791626400@www.windmillfarmmarket.com
SUMMARY:Market
DESCRIPTION:Our market is open anytime during the Spooktacular festival from 10am to 6pm!
URL:https://www.windmillfarmmarket.com/event/market-237/
LOCATION:Windmill Farm Market\, 1454 E. State Route 73 \, Springboro\, OH\, 45066\, United States
END:VEVENT
BEGIN:VEVENT
DTSTART;TZID=America/Chicago:20261010T110000
DTEND;TZID=America/Chicago:20261010T110000
DTSTAMP:20260423T192236
CREATED:20260403T133334Z
LAST-MODIFIED:20260403T133334Z
UID:2101-1791630000-1791630000@www.windmillfarmmarket.com
SUMMARY:Public Hayrides
DESCRIPTION:Our public hayrides are on Friday from 11am – 6pm and on the weekends from 11am to 5pm – so come on by! Contact us directly for private hayrides on Wednesday and Thursday!
URL:https://www.windmillfarmmarket.com/event/public-hayrides-106/
LOCATION:Windmill Farm Market\, 1454 E. State Route 73 \, Springboro\, OH\, 45066\, United States
END:VEVENT
BEGIN:VEVENT
DTSTART;TZID=America/Chicago:20261011T100000
DTEND;TZID=America/Chicago:20261011T100000
DTSTAMP:20260423T192236
CREATED:20260403T133436Z
LAST-MODIFIED:20260403T133436Z
UID:2122-1791712800-1791712800@www.windmillfarmmarket.com
SUMMARY:Market
DESCRIPTION:Our market is open anytime during the Spooktacular festival from 10am to 6pm!
URL:https://www.windmillfarmmarket.com/event/market-238/
LOCATION:Windmill Farm Market\, 1454 E. State Route 73 \, Springboro\, OH\, 45066\, United States
END:VEVENT
BEGIN:VEVENT
DTSTART;TZID=America/Chicago:20261011T110000
DTEND;TZID=America/Chicago:20261011T110000
DTSTAMP:20260423T192236
CREATED:20260403T133334Z
LAST-MODIFIED:20260403T133334Z
UID:2102-1791716400-1791716400@www.windmillfarmmarket.com
SUMMARY:Public Hayrides
DESCRIPTION:Our public hayrides are on Friday from 11am – 6pm and on the weekends from 11am to 5pm – so come on by! Contact us directly for private hayrides on Wednesday and Thursday!
URL:https://www.windmillfarmmarket.com/event/public-hayrides-107/
LOCATION:Windmill Farm Market\, 1454 E. State Route 73 \, Springboro\, OH\, 45066\, United States
END:VEVENT
BEGIN:VEVENT
DTSTART;TZID=America/Chicago:20261014T090000
DTEND;TZID=America/Chicago:20261014T090000
DTSTAMP:20260423T192236
CREATED:20260403T133629Z
LAST-MODIFIED:20260403T133629Z
UID:2141-1791968400-1791968400@www.windmillfarmmarket.com
SUMMARY:Private Hayrides
DESCRIPTION:Contact us directly for private hayrides on Wednesday and Thursday – minimum 10 children. Otherwise\, checkout our public hayrides Friday through Sunday!
URL:https://www.windmillfarmmarket.com/event/private-hayrides-153/
LOCATION:Windmill Farm Market\, 1454 E. State Route 73 \, Springboro\, OH\, 45066\, United States
END:VEVENT
BEGIN:VEVENT
DTSTART;TZID=America/Chicago:20261014T100000
DTEND;TZID=America/Chicago:20261014T100000
DTSTAMP:20260423T192236
CREATED:20260403T133436Z
LAST-MODIFIED:20260403T133436Z
UID:2123-1791972000-1791972000@www.windmillfarmmarket.com
SUMMARY:Market
DESCRIPTION:Our market is open anytime during the Spooktacular festival from 10am to 6pm!
URL:https://www.windmillfarmmarket.com/event/market-239/
LOCATION:Windmill Farm Market\, 1454 E. State Route 73 \, Springboro\, OH\, 45066\, United States
END:VEVENT
BEGIN:VEVENT
DTSTART;TZID=America/Chicago:20261015T090000
DTEND;TZID=America/Chicago:20261015T090000
DTSTAMP:20260423T192236
CREATED:20260403T133629Z
LAST-MODIFIED:20260403T133629Z
UID:2142-1792054800-1792054800@www.windmillfarmmarket.com
SUMMARY:Private Hayrides
DESCRIPTION:Contact us directly for private hayrides on Wednesday and Thursday – minimum 10 children. Otherwise\, checkout our public hayrides Friday through Sunday!
URL:https://www.windmillfarmmarket.com/event/private-hayrides-154/
LOCATION:Windmill Farm Market\, 1454 E. State Route 73 \, Springboro\, OH\, 45066\, United States
END:VEVENT
BEGIN:VEVENT
DTSTART;TZID=America/Chicago:20261015T100000
DTEND;TZID=America/Chicago:20261015T100000
DTSTAMP:20260423T192236
CREATED:20260403T133437Z
LAST-MODIFIED:20260403T133437Z
UID:2124-1792058400-1792058400@www.windmillfarmmarket.com
SUMMARY:Market
DESCRIPTION:Our market is open anytime during the Spooktacular festival from 10am to 6pm!
URL:https://www.windmillfarmmarket.com/event/market-240/
LOCATION:Windmill Farm Market\, 1454 E. State Route 73 \, Springboro\, OH\, 45066\, United States
END:VEVENT
BEGIN:VEVENT
DTSTART;TZID=America/Chicago:20261016T100000
DTEND;TZID=America/Chicago:20261016T100000
DTSTAMP:20260423T192236
CREATED:20260403T133451Z
LAST-MODIFIED:20260403T133451Z
UID:2125-1792144800-1792144800@www.windmillfarmmarket.com
SUMMARY:Market
DESCRIPTION:Our market is open anytime during the Spooktacular festival from 10am to 6pm!
URL:https://www.windmillfarmmarket.com/event/market-241/
LOCATION:Windmill Farm Market\, 1454 E. State Route 73 \, Springboro\, OH\, 45066\, United States
END:VEVENT
BEGIN:VEVENT
DTSTART;TZID=America/Chicago:20261016T110000
DTEND;TZID=America/Chicago:20261016T110000
DTSTAMP:20260423T192236
CREATED:20260403T133334Z
LAST-MODIFIED:20260403T133334Z
UID:2103-1792148400-1792148400@www.windmillfarmmarket.com
SUMMARY:Public Hayrides
DESCRIPTION:Our public hayrides are on Friday from 11am – 6pm and on the weekends from 11am to 5pm – so come on by! Contact us directly for private hayrides on Wednesday and Thursday!
URL:https://www.windmillfarmmarket.com/event/public-hayrides-108/
LOCATION:Windmill Farm Market\, 1454 E. State Route 73 \, Springboro\, OH\, 45066\, United States
END:VEVENT
END:VCALENDAR