BEGIN:VCALENDAR
VERSION:2.0
PRODID:-//Windmill Farm Market - ECPv6.15.20//NONSGML v1.0//EN
CALSCALE:GREGORIAN
METHOD:PUBLISH
X-WR-CALNAME:Windmill Farm Market
X-ORIGINAL-URL:https://www.windmillfarmmarket.com
X-WR-CALDESC:Events for Windmill Farm Market
REFRESH-INTERVAL;VALUE=DURATION:PT1H
X-Robots-Tag:noindex
X-PUBLISHED-TTL:PT1H
BEGIN:VTIMEZONE
TZID:America/Chicago
BEGIN:DAYLIGHT
TZOFFSETFROM:-0600
TZOFFSETTO:-0500
TZNAME:CDT
DTSTART:20240310T080000
END:DAYLIGHT
BEGIN:STANDARD
TZOFFSETFROM:-0500
TZOFFSETTO:-0600
TZNAME:CST
DTSTART:20241103T070000
END:STANDARD
BEGIN:DAYLIGHT
TZOFFSETFROM:-0600
TZOFFSETTO:-0500
TZNAME:CDT
DTSTART:20250309T080000
END:DAYLIGHT
BEGIN:STANDARD
TZOFFSETFROM:-0500
TZOFFSETTO:-0600
TZNAME:CST
DTSTART:20251102T070000
END:STANDARD
BEGIN:DAYLIGHT
TZOFFSETFROM:-0600
TZOFFSETTO:-0500
TZNAME:CDT
DTSTART:20260308T080000
END:DAYLIGHT
BEGIN:STANDARD
TZOFFSETFROM:-0500
TZOFFSETTO:-0600
TZNAME:CST
DTSTART:20261101T070000
END:STANDARD
END:VTIMEZONE
BEGIN:VEVENT
DTSTART;TZID=America/Chicago:20250924T090000
DTEND;TZID=America/Chicago:20250924T090000
DTSTAMP:20260423T183019
CREATED:20241202T162506Z
LAST-MODIFIED:20241202T162506Z
UID:2019-1758704400-1758704400@www.windmillfarmmarket.com
SUMMARY:Private Hayrides
DESCRIPTION:Contact us directly for private hayrides on Wednesday and Thursday – minimum 10 children. Otherwise\, checkout our public hayrides Friday through Sunday!
URL:https://www.windmillfarmmarket.com/event/private-hayrides-139/
LOCATION:Windmill Farm Market\, 1454 E. State Route 73 \, Springboro\, OH\, 45066\, United States
END:VEVENT
BEGIN:VEVENT
DTSTART;TZID=America/Chicago:20250924T100000
DTEND;TZID=America/Chicago:20250924T100000
DTSTAMP:20260423T183019
CREATED:20241202T162409Z
LAST-MODIFIED:20241202T162409Z
UID:1993-1758708000-1758708000@www.windmillfarmmarket.com
SUMMARY:Market
DESCRIPTION:Our market is open anytime during the Spooktacular festival from 10am to 6pm!
URL:https://www.windmillfarmmarket.com/event/market-202/
LOCATION:Windmill Farm Market\, 1454 E. State Route 73 \, Springboro\, OH\, 45066\, United States
END:VEVENT
END:VCALENDAR