BEGIN:VCALENDAR
VERSION:2.0
PRODID:-//Windmill Farm Market - ECPv6.15.20//NONSGML v1.0//EN
CALSCALE:GREGORIAN
METHOD:PUBLISH
X-ORIGINAL-URL:https://www.windmillfarmmarket.com
X-WR-CALDESC:Events for Windmill Farm Market
REFRESH-INTERVAL;VALUE=DURATION:PT1H
X-Robots-Tag:noindex
X-PUBLISHED-TTL:PT1H
BEGIN:VTIMEZONE
TZID:America/Chicago
BEGIN:DAYLIGHT
TZOFFSETFROM:-0600
TZOFFSETTO:-0500
TZNAME:CDT
DTSTART:20210314T080000
END:DAYLIGHT
BEGIN:STANDARD
TZOFFSETFROM:-0500
TZOFFSETTO:-0600
TZNAME:CST
DTSTART:20211107T070000
END:STANDARD
BEGIN:DAYLIGHT
TZOFFSETFROM:-0600
TZOFFSETTO:-0500
TZNAME:CDT
DTSTART:20220313T080000
END:DAYLIGHT
BEGIN:STANDARD
TZOFFSETFROM:-0500
TZOFFSETTO:-0600
TZNAME:CST
DTSTART:20221106T070000
END:STANDARD
BEGIN:DAYLIGHT
TZOFFSETFROM:-0600
TZOFFSETTO:-0500
TZNAME:CDT
DTSTART:20230312T080000
END:DAYLIGHT
BEGIN:STANDARD
TZOFFSETFROM:-0500
TZOFFSETTO:-0600
TZNAME:CST
DTSTART:20231105T070000
END:STANDARD
END:VTIMEZONE
BEGIN:VEVENT
DTSTART;TZID=America/Chicago:20221030T100000
DTEND;TZID=America/Chicago:20221030T180000
DTSTAMP:20260425T114519
CREATED:20220705T193316Z
LAST-MODIFIED:20220912T204914Z
UID:1350-1667124000-1667152800@www.windmillfarmmarket.com
SUMMARY:Market
DESCRIPTION:Our market is open anytime during the Spooktacular festival from 10am to 6pm!
URL:https://www.windmillfarmmarket.com/event/market-147/
LOCATION:Windmill Farm Market\, 1454 E. State Route 73 \, Springboro\, OH\, 45066\, United States
END:VEVENT
BEGIN:VEVENT
DTSTART;TZID=America/Chicago:20221030T110000
DTEND;TZID=America/Chicago:20221030T170000
DTSTAMP:20260425T114519
CREATED:20220705T192945Z
LAST-MODIFIED:20220912T204759Z
UID:1313-1667127600-1667149200@www.windmillfarmmarket.com
SUMMARY:Public Hayrides
DESCRIPTION:Our public hayrides are on the weekends from 11am to 5pm – so come on by! Contact us directly for private hayrides during the week.
URL:https://www.windmillfarmmarket.com/event/public-hayrides-47/
LOCATION:Windmill Farm Market\, 1454 E. State Route 73 \, Springboro\, OH\, 45066\, United States
END:VEVENT
END:VCALENDAR